BEGIN:VCALENDAR
VERSION:2.0
PRODID:-//ChamberMaster//Event Calendar 2.0//EN
METHOD:PUBLISH
X-PUBLISHED-TTL:P3D
REFRESH-INTERVAL:P3D
CALSCALE:GREGORIAN
BEGIN:VEVENT
DTSTART:20230527T140000Z
DTEND:20230527T160000Z
X-MICROSOFT-CDO-ALLDAYEVENT:FALSE
SUMMARY:Zimmerman Wild West 5K & Kids 1/2 Mile Fun Run
DESCRIPTION:Join us for a fun 5K run/walk and kids 1/2 mile fun run sponsored by Zimmerman Thunder's Cross Country and Track and Field Teams on Memorial Day Weekend. This scenic course weaves through Grams Regional Park and along the blue waters of Lake Fremont. The 5K is at 9am and the kids Fun Run is at 10am
X-ALT-DESC;FMTTYPE=text/html:Join us for a fun 5K run/walk and kids 1/2 mile fun run sponsored by Zimmerman Thunder&#39\;s Cross Country and Track and Field Teams on Memorial Day Weekend. This scenic course weaves through Grams Regional Park and along the blue waters of Lake Fremont. The 5K is at 9am and the kids Fun Run is at 10am
LOCATION:Grams Regional Park 26655 120th St\, Zimmerman
UID:e.32.30683
SEQUENCE:3
DTSTAMP:20260424T212250Z
URL:http://mobile.elkriverchamber.org/events/details/zimmerman-wild-west-5k-kids-1-2-mile-fun-run-30683
END:VEVENT

END:VCALENDAR
