BEGIN:VCALENDAR
VERSION:2.0
PRODID:-//ChamberMaster//Event Calendar 2.0//EN
METHOD:PUBLISH
X-PUBLISHED-TTL:P3D
REFRESH-INTERVAL:P3D
CALSCALE:GREGORIAN
BEGIN:VEVENT
DTSTART:20250806T170000Z
DTEND:20250806T183000Z
X-MICROSOFT-CDO-ALLDAYEVENT:FALSE
SUMMARY:ZIMMERMAN BUSINESS COUNCIL - LUNCH
DESCRIPTION:Zimmerman Business Council Lunch
X-ALT-DESC;FMTTYPE=text/html:<span style="font-size:16px\;">Zimmerman Business Council Lunch</span>
LOCATION:Ridgewood Bay (Patio) 14255 288th Ave NW\, Zimmerman\, MN 55398
UID:e.32.32646
SEQUENCE:3
DTSTAMP:20260421T141505Z
URL:http://mobile.elkriverchamber.org/events/details/zimmerman-business-council-lunch-32646
END:VEVENT

END:VCALENDAR
