BEGIN:VCALENDAR
VERSION:2.0
PRODID:-//ChamberMaster//Event Calendar 2.0//EN
METHOD:PUBLISH
X-PUBLISHED-TTL:P3D
REFRESH-INTERVAL:P3D
CALSCALE:GREGORIAN
BEGIN:VEVENT
DTSTART:20251105T150000Z
DTEND:20251105T163000Z
X-MICROSOFT-CDO-ALLDAYEVENT:FALSE
SUMMARY:ZIMMERMAN BUSINESS COUNCIL
DESCRIPTION:Many local businesses already give back to the community   but are you getting the most out of those partnerships?\n\nJoin us for this Zimmerman Business Council workshop featuring Kat Sarff\, Executive Director of the Sherburne County Area United Way\, as she shares creative\, practical ways small businesses can collaborate with nonprofits to grow their visibility\, engage employees\, and make a lasting community impact.\n\nYou'll learn how to:\n\n\n	\n	Leverage nonprofit partnerships for authentic marketing and community goodwill\n	\n	\n	Build brand recognition through creative volunteer and fundraising events\n	\n	\n	Engage employees and customers while supporting great causes\n	\n	\n	Promote your efforts through simple\, low-cost marketing strategies\n	\n\n\nWe'll explore fun and effective examples like chili cook-offs\, dress-down days\, and customer drives that make "doing good" a smart business move.\n\nIn the spirit of giving\, please bring a food donation for the Zimmerman Food Shelf   especially Thanksgiving favorites such as:\n\n  Canned Pumpkin or Sweet Potatoes\n\n  Stove Top Stuffing\n\n  Jars of Turkey Gravy\n\n  Canned Green Beans\n\n  French's Fried Onions\n\n  Cranberry Sauce\n\nLet's fill the shelves and fuel great ideas for your business at the same time!\n\n\n\n\nAt the chamber we know that people do business with those they know like and trust - getting to know other businesses in Zimmerman makes good business sense.
X-ALT-DESC;FMTTYPE=text/html:<p data-end="440" data-start="324">Many local businesses already give back to the community &mdash\; but are you getting the most out of those partnerships?</p>\n\n<p data-end="754" data-start="442">Join us for this <strong data-end="498" data-start="459">Zimmerman Business Council workshop</strong> featuring <strong data-end="582" data-start="509">Kat Sarff\, Executive Director of the Sherburne County Area United Way</strong>\, as she shares creative\, practical ways small businesses can collaborate with nonprofits to grow their visibility\, engage employees\, and make a lasting community impact.</p>\n\n<p data-end="778" data-start="756">You&rsquo\;ll learn how to:</p>\n\n<ul data-end="1075" data-start="779">\n	<li data-end="861" data-start="779">\n	<p data-end="861" data-start="781">Leverage nonprofit partnerships for authentic marketing and community goodwill</p>\n	</li>\n	<li data-end="939" data-start="862">\n	<p data-end="939" data-start="864">Build brand recognition through creative volunteer and fundraising events</p>\n	</li>\n	<li data-end="1004" data-start="940">\n	<p data-end="1004" data-start="942">Engage employees and customers while supporting great causes</p>\n	</li>\n	<li data-end="1075" data-start="1005">\n	<p data-end="1075" data-start="1007">Promote your efforts through simple\, low-cost marketing strategies</p>\n	</li>\n</ul>\n\n<p data-end="1224" data-start="1077">We&rsquo\;ll explore fun and effective examples like chili cook-offs\, dress-down days\, and customer drives that make &ldquo\;doing good&rdquo\; a smart business move.</p>\n\n<p data-end="1519" data-start="1226">In the spirit of giving\, please <strong data-end="1312" data-start="1258">bring a food donation for the Zimmerman Food Shelf</strong> &mdash\; especially Thanksgiving favorites such as:<br data-end="1360" data-start="1357" />\n&#129505\; Canned Pumpkin or Sweet Potatoes<br data-end="1398" data-start="1395" />\n&#129505\; Stove Top Stuffing<br data-end="1422" data-start="1419" />\n&#129505\; Jars of Turkey Gravy<br data-end="1448" data-start="1445" />\n&#129505\; Canned Green Beans<br data-end="1472" data-start="1469" />\n&#129505\; French&rsquo\;s Fried Onions<br data-end="1499" data-start="1496" />\n&#129505\; Cranberry Sauce</p>\n\n<p data-end="1600" data-start="1521">Let&rsquo\;s fill the shelves and fuel great ideas for your business at the same time!</p>\n<br />\n<br />\n<span style="font-size:16px\;"><span style="font-family:arial\;">At the chamber we know that people do business with those they know like and trust - getting to know other businesses in Zimmerman makes good business sense.&nbsp\;</span></span><br />\n&nbsp\;
LOCATION:Station 1 Event Center 26140 136th St NW\, Zimmerman\, MN 55398
UID:e.32.32657
SEQUENCE:3
DTSTAMP:20260421T211857Z
URL:http://mobile.elkriverchamber.org/events/details/zimmerman-business-council-32657
END:VEVENT

END:VCALENDAR
