BEGIN:VCALENDAR
VERSION:2.0
PRODID:-//ChamberMaster//Event Calendar 2.0//EN
METHOD:PUBLISH
X-PUBLISHED-TTL:P3D
REFRESH-INTERVAL:P3D
CALSCALE:GREGORIAN
BEGIN:VEVENT
DTSTART:20251001T170000Z
DTEND:20251001T063000Z
X-MICROSOFT-CDO-ALLDAYEVENT:FALSE
SUMMARY:ZIMMERMAN BUSINESS COUNCIL
DESCRIPTION:Are you a business owner in Zimmerman\, or do you serve\n\ncustomers in the area?\n\nThen this networking lunch is designed with you in mind!\n\nThe Zimmerman Business Council brings local businesses together to share ideas\, make connections\, and learn practical tools to help you grow. Each gathering features valuable conversations\, opportunities to meet your business neighbors\, and insights into what's happening right here in Zimmerman.\n\nEven if you're not a Chamber Member (yet!)\, you're invited to join us. It's a great way to expand your network\, increase visibility for your business\, and be part of the conversations that shape the future of the Zimmerman community. When local businesses come together\, everyone benefits\, and we'd love to see you at the table!\n\nLunch is on your own.
X-ALT-DESC;FMTTYPE=text/html:<p class="cvGsUA direction-ltr align-start para-style-body" style="color: rgba(255\,255\,255\,var(--O42jJQ\,1))\; caret-color: rgb(255\, 255\, 255)\; --8sD0Kg: none\; font-family: YAFdJjbTu24_0\, _fb_\, auto\; --cyV3ZQ: 16px\; --gJPlXQ: 1.4\; line-height: 22px\;"><span style="font-size:16px\;"><span style="font-family:arial\;"><span style="color:#000000\;"><span class="a_GcMg font-feature-liga-off font-feature-clig-off font-feature-calt-off text-decoration-none text-strikethrough-none" style="--Ys-XuQ: none\; font-weight: 700\; font-kerning: normal\;">Are you a business owner in Zimmerman\, or do you serve</span></span></span></span></p>\n\n<p class="cvGsUA direction-ltr align-start para-style-body" style="color: rgba(255\,255\,255\,var(--O42jJQ\,1))\; caret-color: rgb(255\, 255\, 255)\; --8sD0Kg: none\; font-family: YAFdJjbTu24_0\, _fb_\, auto\; --cyV3ZQ: 16px\; --gJPlXQ: 1.4\; line-height: 22px\;"><span style="font-size:16px\;"><span style="font-family:arial\;"><span style="color:#000000\;"><span class="a_GcMg font-feature-liga-off font-feature-clig-off font-feature-calt-off text-decoration-none text-strikethrough-none" style="--Ys-XuQ: none\; font-weight: 700\; font-kerning: normal\;">customers in the area?</span></span></span></span></p>\n\n<p class="cvGsUA direction-ltr align-start para-style-body" style="color: rgba(255\,255\,255\,var(--O42jJQ\,1))\; caret-color: rgb(255\, 255\, 255)\; --8sD0Kg: none\; font-family: YAFdJjbTu24_0\, _fb_\, auto\; --cyV3ZQ: 16px\; --gJPlXQ: 1.4\; line-height: 22px\;"><span style="font-size:16px\;"><span style="font-family:arial\;"><span style="color:#000000\;"><span class="a_GcMg font-feature-liga-off font-feature-clig-off font-feature-calt-off text-decoration-none text-strikethrough-none" style="--Ys-XuQ: none\; font-weight: 700\; font-kerning: normal\;">Then this networking lunch is designed with you in mind!</span></span></span></span></p>\n\n<p class="cvGsUA direction-ltr align-start para-style-body" style="color: rgba(255\,255\,255\,var(--O42jJQ\,1))\; caret-color: rgb(255\, 255\, 255)\; --8sD0Kg: none\; font-family: YAFdJjbTu24_0\, _fb_\, auto\; --cyV3ZQ: 16px\; --gJPlXQ: 1.4\; line-height: 22px\;"><span style="font-size:16px\;"><span style="font-family:arial\;"><span style="color:#000000\;"><span class="a_GcMg font-feature-liga-off font-feature-clig-off font-feature-calt-off text-decoration-none text-strikethrough-none" style="--Ys-XuQ: none\; font-kerning: normal\;">The Zimmerman Business Council brings local businesses together to share ideas\, make connections\, and learn practical tools to help you grow. Each gathering features valuable conversations\, opportunities to meet your business neighbors\, and insights into what&rsquo\;s happening right here in Zimmerman.</span></span></span></span></p>\n\n<p class="cvGsUA direction-ltr align-start para-style-body" style="color: rgba(255\,255\,255\,var(--O42jJQ\,1))\; caret-color: rgb(255\, 255\, 255)\; --8sD0Kg: none\; font-family: YAFdJjbTu24_0\, _fb_\, auto\; --cyV3ZQ: 16px\; --gJPlXQ: 1.4\; line-height: 22px\;"><span style="font-size:16px\;"><span style="font-family:arial\;"><span style="color:#000000\;"><span class="a_GcMg font-feature-liga-off font-feature-clig-off font-feature-calt-off text-decoration-none text-strikethrough-none" style="--Ys-XuQ: none\; font-kerning: normal\;">Even if you&rsquo\;re not a Chamber Member (yet!)\, you&rsquo\;re invited to join us. It&rsquo\;s a great way to expand your network\, increase visibility for your business\, and be part of the conversations that shape the future of&nbsp\;</span></span></span></span><span style="font-size:16px\;"><span style="font-family:arial\;"><span style="color:#000000\;"><span class="a_GcMg font-feature-liga-off font-feature-clig-off font-feature-calt-off text-decoration-none text-strikethrough-none" style="--Ys-XuQ: none\; font-kerning: normal\;">the Zimmerman community. When local businesses come&nbsp\;</span></span></span></span><span style="font-size:16px\;"><span style="font-family:arial\;"><span style="color:#000000\;"><span class="a_GcMg font-feature-liga-off font-feature-clig-off font-feature-calt-off text-decoration-none text-strikethrough-none" style="--Ys-XuQ: none\; font-kerning: normal\;">together\, everyone benefits\, and we&rsquo\;d love to see you at&nbsp\;</span></span></span></span><span style="font-size:16px\;"><span style="font-family:arial\;"><span style="color:#000000\;"><span class="a_GcMg font-feature-liga-off font-feature-clig-off font-feature-calt-off text-decoration-none text-strikethrough-none" style="--Ys-XuQ: none\; font-kerning: normal\;">the table!</span></span></span></span></p>\n\n<p class="cvGsUA direction-ltr align-start para-style-body" style="color: rgba(255\,255\,255\,var(--O42jJQ\,1))\; caret-color: rgb(255\, 255\, 255)\; --8sD0Kg: none\; font-family: YAFdJjbTu24_0\, _fb_\, auto\; --cyV3ZQ: 16px\; --gJPlXQ: 1.4\; line-height: 22px\;"><span style="font-size:16px\;"><span style="font-family:arial\;"><span style="color:#000000\;"><span class="a_GcMg font-feature-liga-off font-feature-clig-off font-feature-calt-off text-decoration-none text-strikethrough-none" style="--Ys-XuQ: none\; font-kerning: normal\;">Lunch is on your own.</span></span></span></span></p>\n
LOCATION:Zimmerman Bar and Grill 13100 Fremont Ave Zimmerman
UID:e.32.32656
SEQUENCE:3
DTSTAMP:20260421T195000Z
URL:http://mobile.elkriverchamber.org/events/details/zimmerman-business-council-32656
END:VEVENT

END:VCALENDAR
