BEGIN:VCALENDAR
VERSION:2.0
PRODID:-//ChamberMaster//Event Calendar 2.0//EN
METHOD:PUBLISH
X-PUBLISHED-TTL:P3D
REFRESH-INTERVAL:P3D
CALSCALE:GREGORIAN
BEGIN:VEVENT
DTSTART:20250910T140000Z
DTEND:20250910T153000Z
X-MICROSOFT-CDO-ALLDAYEVENT:FALSE
SUMMARY:ZIMMERMAN BUSINESS COUNCIL
DESCRIPTION:Is your business located in or serves the city of Zimmerman? \n\nDo you want to know what is happening in Zimmerman?\n\nDo you want to get to know some of your business neighbors better?\n\n\n\nThis program is for you!\n\n\n\nAt the chamber we know that people do business with those they know like and trust - getting to know other businesses in Zimmerman makes good business sense. \n\n\n\nToday we will hear a presentation from the Elk River Chamber about Small business tools.\n\n	Resources to Strengthen Your Business's Resilience\n	Panel Discussion with Local Experts\n	Trade Tables
X-ALT-DESC;FMTTYPE=text/html:<span style="font-size:16px\;"><span style="font-family:arial\;">Is your business located in or serves the city of Zimmerman?&nbsp\;<br />\nDo you want to know what is happening in Zimmerman?<br />\nDo you want to get to know some of your business neighbors better?<br />\n<br />\nThis program is for you!<br />\n<br />\nAt the chamber we know that people do business with those they know like and trust - getting to know other businesses in Zimmerman makes good business sense.&nbsp\;<br />\n<br />\nToday we will hear a presentation from the Elk River Chamber about Small business tools.</span></span>\n<ul>\n	<li><span style="font-size:14px\;"><span style="color:black\;"><span style="font-family:arial\,sans-serif\;">Resources to Strengthen Your Business&rsquo\;s Resilience</span></span></span></li>\n	<li><span style="font-size:14px\;"><span style="color:black\;"><span style="font-family:arial\,sans-serif\;">Panel Discussion with Local Experts</span></span></span></li>\n	<li><span style="font-size:14px\;"><span style="color:black\;"><span style="font-family:arial\,sans-serif\;">Trade Tables</span></span></span></li>\n</ul>\n
LOCATION:Station 1 Event Center 26140 136th St NW\, Zimmerman\, MN 55398
UID:e.32.32655
SEQUENCE:3
DTSTAMP:20260421T175653Z
URL:http://mobile.elkriverchamber.org/events/details/zimmerman-business-council-32655
END:VEVENT

END:VCALENDAR
