BEGIN:VCALENDAR
VERSION:2.0
PRODID:-//ChamberMaster//Event Calendar 2.0//EN
METHOD:PUBLISH
X-PUBLISHED-TTL:P3D
REFRESH-INTERVAL:P3D
CALSCALE:GREGORIAN
BEGIN:VEVENT
DTSTART:20250920T150000Z
DTEND:20250920T160000Z
X-MICROSOFT-CDO-ALLDAYEVENT:FALSE
SUMMARY:Yoga at the Barn
DESCRIPTION:Yoga at the Barn\n\nStart your weekend with a peaceful practice inside the warm and welcoming Red Barn at Trott Brook Farm Park. Join Halo Heart Yoga & Sound for an all-levels yoga class designed to awaken the body\, calm the mind\, and connect you with the beauty of the season.\n\n\n\nThis class combines gentle movement\, mindful breathing\, and grounding relaxation perfect for both new and experienced practitioners. Surrounded by the rustic charm of the barn\, you'll find the space to slow down\, stretch\, and center yourself.\n\n\n\nDate: Saturday\, September 20\, 2025\n\nTime: 10:00 am\n\nLocation: Trott Brook Farm Park   The Red Barn: 18300 Trott Brook Pkwy NW Elk River\, MN 55330\n\nCost: $10\n\nFor Ages 12 and up.\n\n\n\nRegistration: Available through Elk River Parks and Recreation under Adult Leagues/Classes and youth program.\n\nClick below to register.\n\nhttps://secure.rec1.com/MN/elk-river-parks-rec-mn/catalog\n\n\n\nBring your yoga mat and anything that supports your comfort (blanket\, water\, blocks). All levels are welcome!\n\n\n\nReceive a free class pass to Azitala Hot Yoga.  One pass per person.
X-ALT-DESC;FMTTYPE=text/html:<span style="font-size:16px\;"><span style="font-family:arial\;">Yoga at the Barn<br />\nStart your weekend with a peaceful practice inside the warm and welcoming Red Barn at Trott Brook Farm Park. Join Halo Heart Yoga &amp\; Sound for an all-levels yoga class designed to awaken the body\, calm the mind\, and connect you with the beauty of the season.<br />\n<br />\nThis class combines gentle movement\, mindful breathing\, and grounding relaxation&mdash\;perfect for both new and experienced practitioners. Surrounded by the rustic charm of the barn\, you&rsquo\;ll find the space to slow down\, stretch\, and center yourself.<br />\n<br />\nDate: Saturday\, September 20\, 2025<br />\nTime: 10:00 am<br />\nLocation: Trott Brook Farm Park &ndash\; The Red Barn: 18300 Trott Brook Pkwy NW Elk River\, MN 55330<br />\nCost: $10<br />\nFor Ages 12 and up.<br />\n<br />\nRegistration: Available through Elk River Parks and Recreation under Adult Leagues/Classes and youth program.<br />\nClick below to register.<br />\nhttps://secure.rec1.com/MN/elk-river-parks-rec-mn/catalog<br />\n<br />\nBring your yoga mat and anything that supports your comfort (blanket\, water\, blocks). All levels are welcome!<br />\n<br />\nReceive a free class pass to Azitala Hot Yoga.&nbsp\; One pass per person</span></span>.
LOCATION:Trott Brook Farm Park The Red Barn 18300 Trott Brook Pkwy NW Elk River\, MN 55330
UID:e.32.32709
SEQUENCE:3
DTSTAMP:20260421T175522Z
URL:http://mobile.elkriverchamber.org/events/details/yoga-at-the-barn-32709
END:VEVENT

END:VCALENDAR
