BEGIN:VCALENDAR
VERSION:2.0
PRODID:-//ChamberMaster//Event Calendar 2.0//EN
METHOD:PUBLISH
X-PUBLISHED-TTL:P3D
REFRESH-INTERVAL:P3D
CALSCALE:GREGORIAN
BEGIN:VEVENT
DTSTART:20250719T190000Z
DTEND:20250719T210000Z
X-MICROSOFT-CDO-ALLDAYEVENT:FALSE
SUMMARY:Willy Wonka Kids - Performing Arts
DESCRIPTION:ISD Community Education presents:\n\nWilly Wonka - Kids!\n\n \nEvent Details\n\n\nJoin us for a magical journey as our talented young performers bring Willy Wonka Kids to life on stage! From unforgettable songs to fantastical characters\, this musical production will delight audiences of all ages. Don't miss your chance to see Roald Dahl's classic tale unfold in a dazzling display of music\, dance\, and heart.\n\nGrab your golden ticket performances are just around the corner!\n\nPurchase tickets here
X-ALT-DESC;FMTTYPE=text/html:<span style="font-size:16px\;"><span style="font-family:arial\;">ISD Community Education presents:<br />\nWilly Wonka - Kids!</span></span><br />\n&nbsp\;\n<div class="css-146c3p1 r-wvxm35 r-3ugor9 r-ubezar r-1kfrs79 r-oxtfae r-135wba7 r-pm9dpa r-fdjqy7" dir="auto" style="padding: 0px\; margin: 0px\; box-sizing: border-box\; background-color: rgb(255\, 255\, 255)\; border: 0px solid black\; color: rgb(22\, 22\, 22)\; display: inline\; font-variant-numeric: normal\; font-variant-east-asian: normal\; font-variant-alternates: normal\; font-size-adjust: none\; font-kerning: auto\; font-optical-sizing: auto\; font-feature-settings: normal\; font-variation-settings: normal\; font-variant-position: normal\; font-variant-emoji: normal\; font-weight: 600\; font-stretch: normal\; line-height: 24px\; font-family: Rubik-SemiBold\; list-style: none\; position: relative\; white-space-collapse: preserve\; overflow-wrap: break-word\; max-height: 100%\;"><span style="font-size:16px\;"><span style="font-family:arial\;">Event Details</span></span></div>\n\n<div class="sc-jlZhew lmIMXw" style="padding: 0px\; margin: 0px\; box-sizing: border-box\; color: rgb(50\, 50\, 50)\; font-family: Rubik-Regular\; font-size: 14px\; letter-spacing: 0.16px\; line-height: 20px\; overflow-wrap: break-word\; max-height: 100%\; background-color: rgb(255\, 255\, 255)\;">\n<p style="padding: 0px\; margin: 0px 0px 1rem\; box-sizing: border-box\; font-family: Rubik-Regular\, sans-serif\; font-size: 0.875rem\; line-height: 1.5\; letter-spacing: 0.16px\;"><span style="font-size:16px\;"><span style="font-family:arial\;">Join us for a magical journey as our talented young performers bring&nbsp\;<em style="padding: 0px\; margin: 0px\; box-sizing: border-box\;">Willy Wonka Kids</em>&nbsp\;to life on stage! From unforgettable songs to fantastical characters\, this musical production will delight audiences of all ages. Don&rsquo\;t miss your chance to see Roald Dahl&rsquo\;s classic tale unfold in a dazzling display of music\, dance\, and heart.</span></span></p>\n\n<p style="padding: 0px\; margin: 0px 0px 1rem\; box-sizing: border-box\; font-family: Rubik-Regular\, sans-serif\; font-size: 0.875rem\; line-height: 1.5\; letter-spacing: 0.16px\;"><span style="font-size:16px\;"><span style="font-family:arial\;"><strong style="padding: 0px\; margin: 0px\; box-sizing: border-box\; font-family: Rubik-SemiBold\;">Grab your golden ticket&mdash\;performances are just around the corner!</strong></span></span></p>\n</div>\n<a href="https://gofan.co/event/3764709?schoolId=MN89042_1"><span style="font-size:16px\;"><span style="font-family:arial\;">Purchase tickets here</span></span></a>
LOCATION:Rogers High School Performing Arts Center 21000 141st Ave Rogers
UID:e.32.32650
SEQUENCE:3
DTSTAMP:20260421T124401Z
URL:http://mobile.elkriverchamber.org/events/details/willy-wonka-kids-performing-arts-32650
END:VEVENT

END:VCALENDAR
