BEGIN:VCALENDAR
VERSION:2.0
PRODID:-//ChamberMaster//Event Calendar 2.0//EN
METHOD:PUBLISH
X-PUBLISHED-TTL:P3D
REFRESH-INTERVAL:P3D
CALSCALE:GREGORIAN
BEGIN:VEVENT
DTSTART:20250729T170000Z
DTEND:20250729T174000Z
X-MICROSOFT-CDO-ALLDAYEVENT:FALSE
SUMMARY:Webinar - Minnesota’s New Data Privacy Law: What Your Business Needs to Know
DESCRIPTION:The Minnesota Consumer Privacy Act (MCPA) takes effect on July 31\, 2025\, bringing major changes for businesses and nonprofits that collect consumer data.\n\nJoin BBB and the Minnesota Attorney General's Office for a free\, practical webinar to learn what this new law means for you. From updated privacy notices to new data inventories and consumer rights\, this session will help you prepare now to stay compliant and avoid penalties.\n\nRegister here
X-ALT-DESC;FMTTYPE=text/html:<p style="box-sizing: border-box\; margin: 0px\; margin-block: 16px 0px\; color: rgb(45\, 41\, 38)\; font-family: proxima-nova\, Helvetica\, Arial\, sans-serif\; font-size: 16px\; background-color: rgb(252\, 252\, 252)\;"><span style="font-size:16px\;"><span style="font-family:arial\;">The Minnesota Consumer Privacy Act (MCPA) takes effect on July 31\, 2025\, bringing major changes for businesses and nonprofits that collect consumer data.</span></span></p>\n\n<p style="box-sizing: border-box\; margin: 0px\; margin-block: 16px 0px\; color: rgb(45\, 41\, 38)\; font-family: proxima-nova\, Helvetica\, Arial\, sans-serif\; font-size: 16px\; background-color: rgb(252\, 252\, 252)\;"><span style="font-size:16px\;"><span style="font-family:arial\;">Join&nbsp\;<strong style="box-sizing: border-box\;">BBB and the Minnesota Attorney General&rsquo\;s Office</strong>&nbsp\;for a free\, practical <strong>webinar</strong> to learn what this new law means for you. From updated privacy notices to new data inventories and consumer rights\, this session will help you prepare now to stay compliant and avoid penalties.</span></span></p>\n\n<p style="box-sizing: border-box\; margin: 0px\; margin-block: 16px 0px\; color: rgb(45\, 41\, 38)\; font-family: proxima-nova\, Helvetica\, Arial\, sans-serif\; font-size: 16px\; background-color: rgb(252\, 252\, 252)\;"><span style="font-size:16px\;"><span style="font-family:arial\;"><a href="https://www.cognitoforms.com/BBBOfMNAndND/MinnesotasNewDataPrivacyLawWhatYourBusinessNeedsToKnow">Register here</a></span></span></p>\n
LOCATION:Virtual Webinar
UID:e.32.32653
SEQUENCE:3
DTSTAMP:20260421T124420Z
URL:http://mobile.elkriverchamber.org/events/details/webinar-minnesota-s-new-data-privacy-law-what-your-business-needs-to-know-32653
END:VEVENT

END:VCALENDAR
