BEGIN:VCALENDAR
VERSION:2.0
PRODID:-//ChamberMaster//Event Calendar 2.0//EN
METHOD:PUBLISH
X-PUBLISHED-TTL:P3D
REFRESH-INTERVAL:P3D
CALSCALE:GREGORIAN
BEGIN:VEVENT
DTSTART:20251102T200000Z
DTEND:20251102T220000Z
X-MICROSOFT-CDO-ALLDAYEVENT:FALSE
SUMMARY:Unleash Your Inner Hero: A Superhero Extravaganza Fundraiser
DESCRIPTION:Get ready for an afternoon of epic fun! The Rogers Theatre Department is inviting all young heroes and heroines to our spectacular Superhero Party fundraiser! On Sunday\, November 2nd from 2:00 PM to 4:00 PM\, our high school students all decked out in their best superhero gear will host an action-packed afternoon filled with thrilling activities\, games\, and maybe even a few secret missions. Kids are encouraged to come dressed as their favorite superhero\, comic book character\, or powerful icon to join the fun. It's a fantastic way to meet some real-life "superstars" from our theatre department and support our next big performance\, Matilda! Don't miss this chance to fly high\, save the day\, and have a blast all for a great cause! Only $5 per student\, max $10 per family!
X-ALT-DESC;FMTTYPE=text/html:<h2><span style="font-size:16px\;"><span style="font-family:arial\;">Get ready for an afternoon of epic fun! The Rogers&nbsp\;Theatre Department is inviting all young heroes and heroines to our spectacular Superhero Party fundraiser! On Sunday\, November 2nd from 2:00 PM to 4:00 PM\, our high school students&mdash\;all decked out in their best superhero gear&mdash\;will host an action-packed afternoon filled with thrilling activities\, games\, and maybe even a few secret missions. Kids are encouraged to come dressed as their favorite superhero\, comic book character\, or powerful icon to join the fun. It&rsquo\;s a fantastic way to meet some real-life &quot\;superstars&quot\; from our theatre department and support our next big performance\, Matilda! Don&#39\;t miss this chance to fly high\, save the day\, and have a blast&mdash\;all for a great cause! Only $5 per student\, max $10 per family!</span></span></h2>\n
LOCATION:Rogers Activity Center 21080 141st Ave. N. Rogers\, MN 55374
UID:e.32.32760
SEQUENCE:3
DTSTAMP:20260421T211543Z
URL:http://mobile.elkriverchamber.org/events/details/unleash-your-inner-hero-a-superhero-extravaganza-fundraiser-for-32760
END:VEVENT

END:VCALENDAR
