BEGIN:VCALENDAR
VERSION:2.0
PRODID:-//ChamberMaster//Event Calendar 2.0//EN
METHOD:PUBLISH
X-PUBLISHED-TTL:P3D
REFRESH-INTERVAL:P3D
CALSCALE:GREGORIAN
BEGIN:VEVENT
DTSTART:20251031T220000Z
DTEND:20251101T020000Z
X-MICROSOFT-CDO-ALLDAYEVENT:FALSE
SUMMARY:Tunnel of Terror @ Good Day Express Car Wash
DESCRIPTION:Enjoy a car wash at Good Day Express Car Wash while being transformed into the Tunnel of Terror.  Enjoy some entertainment while relaxing!
X-ALT-DESC;FMTTYPE=text/html:<span style="font-size:16px\;"><span style="font-family:arial\;">Enjoy a car wash at Good Day Express Car Wash while being transformed into the Tunnel of Terror.&nbsp\; Enjoy some entertainment while relaxing!</span></span>
LOCATION:Good Day Express Car Wash 15840 85th St. NE Otsego
UID:e.32.32804
SEQUENCE:3
DTSTAMP:20260421T175909Z
URL:http://mobile.elkriverchamber.org/events/details/tunnel-of-terror-good-day-express-car-wash-32804
END:VEVENT

END:VCALENDAR
