BEGIN:VCALENDAR
VERSION:2.0
PRODID:-//ChamberMaster//Event Calendar 2.0//EN
METHOD:PUBLISH
X-PUBLISHED-TTL:P3D
REFRESH-INTERVAL:P3D
CALSCALE:GREGORIAN
BEGIN:VEVENT
DTSTART:20251031T210000Z
DTEND:20251101T013000Z
X-MICROSOFT-CDO-ALLDAYEVENT:FALSE
SUMMARY:Trick or Treat with Firefighters
DESCRIPTION:Trick or Treat with Firefighters in Elk River\n\nthey will be handing out candy
X-ALT-DESC;FMTTYPE=text/html:Trick or Treat with Firefighters in Elk River<br />\nthey will be handing out candy
LOCATION:Stations 2 & 3 9921 191st Ave NW\, Elk River\, MN
UID:e.32.32788
SEQUENCE:3
DTSTAMP:20260421T175520Z
URL:http://mobile.elkriverchamber.org/events/details/trick-or-treat-with-firefighters-32788
END:VEVENT

END:VCALENDAR
