BEGIN:VCALENDAR
VERSION:2.0
PRODID:-//ChamberMaster//Event Calendar 2.0//EN
METHOD:PUBLISH
X-PUBLISHED-TTL:P3D
REFRESH-INTERVAL:P3D
CALSCALE:GREGORIAN
BEGIN:VEVENT
DTSTART;VALUE=DATE:20251128
DTEND;VALUE=DATE:20251130
TRANSP:TRANSPARENT
X-MICROSOFT-CDO-ALLDAYEVENT:TRUE
SUMMARY:Thurber Jewelers Black Friday Deals
DESCRIPTION:Stop by Thurber Jewelers for Black Friday deals\, 25% off the entire store!!
X-ALT-DESC;FMTTYPE=text/html:<span style="font-size:16px\;"><span style="font-family:arial\;">Stop by Thurber Jewelers for Black Friday deals\, 25% off the entire store!!</span></span><br />\n&nbsp\;
LOCATION:18849 Freeport St NW Elk River
UID:e.32.32944
SEQUENCE:3
DTSTAMP:20260421T211953Z
URL:http://mobile.elkriverchamber.org/events/details/thurber-jewelers-black-friday-deals-32944
END:VEVENT

END:VCALENDAR
