BEGIN:VCALENDAR
VERSION:2.0
PRODID:-//ChamberMaster//Event Calendar 2.0//EN
METHOD:PUBLISH
X-PUBLISHED-TTL:P3D
REFRESH-INTERVAL:P3D
CALSCALE:GREGORIAN
BEGIN:VEVENT
DTSTART:20250606T140000Z
DTEND:20250606T220000Z
X-MICROSOFT-CDO-ALLDAYEVENT:FALSE
SUMMARY:Three Rivers Foundation Golf Tournament - 37th Annual
DESCRIPTION:Three Rivers Community Foundation 37th Annual Golf Tournament\n\n\n\nWe are delighted to extend a formal invitation for your participation in the 37th annual Three Rivers Community Foundation Golf Tournament presented by our title sponsors Christian Builders and Bell Bank Mortgage - Michelle Eder. This distinguished event is slated for Friday\, June 6\, 2025 and will be held at the Elk River golf club.\n\n\n\nRegistration will open at 9 AM with a 10 AM shotgun start to follow.\n\n\n\nThere are several avenues through which you can engage with the tournament\, including sponsorship opportunities and the donation of items for the silent auction. If you're interested in sponsorship or would like to donate items\, please contact us at cwirz@ifound.org/763-607-3680.\n\n\n\nYour enduring support plays a pivotal role in sustaining TRCF's impactful initiatives within the ISD 728 community. Notably\, last year's efforts resulted in the allocation of $25\,000 towards scholarships for graduating seniors\, and over $40\,000 in aid for nonprofit endeavors.\n\n\n\nWe kindly ask that you register by June 3\, 2025 to confirm your participation. We eagerly anticipate your presence on the course and extend our sincere appreciation for your ongoing dedication and support. \n\n\n\nPlease see sponsorship opportunities below.
X-ALT-DESC;FMTTYPE=text/html:<div class="widget no-border " data-id="24352089" style="box-sizing: border-box\; font-family: &quot\;Helvetica Neue&quot\;\, Helvetica\, Arial\, sans-serif\; --tw-border-spacing-x: 0\; --tw-border-spacing-y: 0\; --tw-translate-x: 0\; --tw-translate-y: 0\; --tw-rotate: 0\; --tw-skew-x: 0\; --tw-skew-y: 0\; --tw-scale-x: 1\; --tw-scale-y: 1\; --tw-pan-x: \; --tw-pan-y: \; --tw-pinch-zoom: \; --tw-scroll-snap-strictness: proximity\; --tw-gradient-from-position: \; --tw-gradient-via-position: \; --tw-gradient-to-position: \; --tw-ordinal: \; --tw-slashed-zero: \; --tw-numeric-figure: \; --tw-numeric-spacing: \; --tw-numeric-fraction: \; --tw-ring-inset: \; --tw-ring-offset-width: 0px\; --tw-ring-offset-color: #fff\; --tw-ring-color: #3b82f680\; --tw-ring-offset-shadow: 0 0 #0000\; --tw-ring-shadow: 0 0 #0000\; --tw-shadow: 0 0 #0000\; --tw-shadow-colored: 0 0 #0000\; --tw-blur: \; --tw-brightness: \; --tw-contrast: \; --tw-grayscale: \; --tw-hue-rotate: \; --tw-invert: \; --tw-saturate: \; --tw-sepia: \; --tw-drop-shadow: \; --tw-backdrop-blur: \; --tw-backdrop-brightness: \; --tw-backdrop-contrast: \; --tw-backdrop-grayscale: \; --tw-backdrop-hue-rotate: \; --tw-backdrop-invert: \; --tw-backdrop-opacity: \; --tw-backdrop-saturate: \; --tw-backdrop-sepia: \; --tw-contain-size: \; --tw-contain-layout: \; --tw-contain-paint: \; --tw-contain-style: \; border: none\; font-variant-numeric: inherit\; font-variant-east-asian: inherit\; font-variant-alternates: inherit\; font-variant-position: inherit\; font-variant-emoji: inherit\; font-stretch: inherit\; line-height: inherit\; font-optical-sizing: inherit\; font-size-adjust: inherit\; font-kerning: inherit\; font-feature-settings: inherit\; font-variation-settings: inherit\; font-size: 16px\; margin: 0px\; padding: 0px 0.5em\; vertical-align: initial\; position: relative\; color: rgb(15\, 15\, 15)\; background-color: rgb(255\, 255\, 255)\;">\n<div class="widget-wrapper" style="box-sizing: border-box\; font-family: inherit\; --tw-border-spacing-x: 0\; --tw-border-spacing-y: 0\; --tw-translate-x: 0\; --tw-translate-y: 0\; --tw-rotate: 0\; --tw-skew-x: 0\; --tw-skew-y: 0\; --tw-scale-x: 1\; --tw-scale-y: 1\; --tw-pan-x: \; --tw-pan-y: \; --tw-pinch-zoom: \; --tw-scroll-snap-strictness: proximity\; --tw-gradient-from-position: \; --tw-gradient-via-position: \; --tw-gradient-to-position: \; --tw-ordinal: \; --tw-slashed-zero: \; --tw-numeric-figure: \; --tw-numeric-spacing: \; --tw-numeric-fraction: \; --tw-ring-inset: \; --tw-ring-offset-width: 0px\; --tw-ring-offset-color: #fff\; --tw-ring-color: #3b82f680\; --tw-ring-offset-shadow: 0 0 #0000\; --tw-ring-shadow: 0 0 #0000\; --tw-shadow: 0 0 #0000\; --tw-shadow-colored: 0 0 #0000\; --tw-blur: \; --tw-brightness: \; --tw-contrast: \; --tw-grayscale: \; --tw-hue-rotate: \; --tw-invert: \; --tw-saturate: \; --tw-sepia: \; --tw-drop-shadow: \; --tw-backdrop-blur: \; --tw-backdrop-brightness: \; --tw-backdrop-contrast: \; --tw-backdrop-grayscale: \; --tw-backdrop-hue-rotate: \; --tw-backdrop-invert: \; --tw-backdrop-opacity: \; --tw-backdrop-saturate: \; --tw-backdrop-sepia: \; --tw-contain-size: \; --tw-contain-layout: \; --tw-contain-paint: \; --tw-contain-style: \; border: 0px\; font-style: inherit\; font-variant: inherit\; font-weight: inherit\; font-stretch: inherit\; line-height: inherit\; font-optical-sizing: inherit\; font-size-adjust: inherit\; font-kerning: inherit\; font-feature-settings: inherit\; font-variation-settings: inherit\; margin: 0px\; padding: 0px 10px\; vertical-align: initial\;">\n<div class="page-title-widget  text-left" style="box-sizing: border-box\; font-family: inherit\; --tw-border-spacing-x: 0\; --tw-border-spacing-y: 0\; --tw-translate-x: 0\; --tw-translate-y: 0\; --tw-rotate: 0\; --tw-skew-x: 0\; --tw-skew-y: 0\; --tw-scale-x: 1\; --tw-scale-y: 1\; --tw-pan-x: \; --tw-pan-y: \; --tw-pinch-zoom: \; --tw-scroll-snap-strictness: proximity\; --tw-gradient-from-position: \; --tw-gradient-via-position: \; --tw-gradient-to-position: \; --tw-ordinal: \; --tw-slashed-zero: \; --tw-numeric-figure: \; --tw-numeric-spacing: \; --tw-numeric-fraction: \; --tw-ring-inset: \; --tw-ring-offset-width: 0px\; --tw-ring-offset-color: #fff\; --tw-ring-color: #3b82f680\; --tw-ring-offset-shadow: 0 0 #0000\; --tw-ring-shadow: 0 0 #0000\; --tw-shadow: 0 0 #0000\; --tw-shadow-colored: 0 0 #0000\; --tw-blur: \; --tw-brightness: \; --tw-contrast: \; --tw-grayscale: \; --tw-hue-rotate: \; --tw-invert: \; --tw-saturate: \; --tw-sepia: \; --tw-drop-shadow: \; --tw-backdrop-blur: \; --tw-backdrop-brightness: \; --tw-backdrop-contrast: \; --tw-backdrop-grayscale: \; --tw-backdrop-hue-rotate: \; --tw-backdrop-invert: \; --tw-backdrop-opacity: \; --tw-backdrop-saturate: \; --tw-backdrop-sepia: \; --tw-contain-size: \; --tw-contain-layout: \; --tw-contain-paint: \; --tw-contain-style: \; font-style: inherit\; font-variant: inherit\; font-weight: inherit\; font-stretch: inherit\; line-height: inherit\; font-optical-sizing: inherit\; font-size-adjust: inherit\; font-kerning: inherit\; font-feature-settings: inherit\; font-variation-settings: inherit\; margin: inherit\; padding: initial\; vertical-align: initial\; background-color: initial\; border-radius: initial\; border: none !important\;">\n<div class="content user-html-content sub-title" style="box-sizing: border-box\; font-family: inherit\; --tw-border-spacing-x: 0\; --tw-border-spacing-y: 0\; --tw-translate-x: 0\; --tw-translate-y: 0\; --tw-rotate: 0\; --tw-skew-x: 0\; --tw-skew-y: 0\; --tw-scale-x: 1\; --tw-scale-y: 1\; --tw-pan-x: \; --tw-pan-y: \; --tw-pinch-zoom: \; --tw-scroll-snap-strictness: proximity\; --tw-gradient-from-position: \; --tw-gradient-via-position: \; --tw-gradient-to-position: \; --tw-ordinal: \; --tw-slashed-zero: \; --tw-numeric-figure: \; --tw-numeric-spacing: \; --tw-numeric-fraction: \; --tw-ring-inset: \; --tw-ring-offset-width: 0px\; --tw-ring-offset-color: #fff\; --tw-ring-color: #3b82f680\; --tw-ring-offset-shadow: 0 0 #0000\; --tw-ring-shadow: 0 0 #0000\; --tw-shadow: 0 0 #0000\; --tw-shadow-colored: 0 0 #0000\; --tw-blur: \; --tw-brightness: \; --tw-contrast: \; --tw-grayscale: \; --tw-hue-rotate: \; --tw-invert: \; --tw-saturate: \; --tw-sepia: \; --tw-drop-shadow: \; --tw-backdrop-blur: \; --tw-backdrop-brightness: \; --tw-backdrop-contrast: \; --tw-backdrop-grayscale: \; --tw-backdrop-hue-rotate: \; --tw-backdrop-invert: \; --tw-backdrop-opacity: \; --tw-backdrop-saturate: \; --tw-backdrop-sepia: \; --tw-contain-size: \; --tw-contain-layout: \; --tw-contain-paint: \; --tw-contain-style: \; border: 0px\; font-style: inherit\; font-variant: inherit\; font-weight: inherit\; font-stretch: inherit\; line-height: inherit\; font-optical-sizing: inherit\; font-size-adjust: inherit\; font-kerning: inherit\; font-feature-settings: inherit\; font-variation-settings: inherit\; font-size: 1.125em\; margin: 0px 0px 1em\; padding: 0px\; vertical-align: initial\; word-break: break-word\; clear: both\; color: rgb(89\, 89\, 89)\;"><strong>Three Rivers Community Foundation 37th Annual Golf Tournament</strong><br />\n<br />\n<span style="font-size:16px\;"><span style="font-family:arial\;"><span style="color: rgb(34\, 34\, 34)\; background-color: rgb(255\, 255\, 255)\;">We are delighted to extend a formal invitation for your participation in the <strong>37th annual Three Rivers Community Foundation Golf Tournament</strong> presented by our title sponsors <strong>Christian Builders</strong> and <strong>Bell Bank Mortgage</strong>&nbsp\;<strong>- Michelle Eder</strong>. This distinguished event is slated for Friday\, June 6\, 2025 and will be held at the Elk River golf club.<br />\n<br />\nRegistration will open at 9 AM with a 10 AM shotgun start to follow.<br />\n<br />\nThere are several avenues through which you can engage with the tournament\, including sponsorship opportunities and the donation of items for the silent auction. If you&rsquo\;re interested in sponsorship or would like to donate items\, please contact us at cwirz@ifound.org/763-607-3680.<br />\n<br />\nYour enduring support plays a pivotal role in sustaining TRCF&#39\;s impactful initiatives within the ISD 728 community. Notably\, last year&rsquo\;s efforts resulted in the allocation of $25\,000 towards scholarships for graduating seniors\, and over $40\,000 in aid for nonprofit endeavors.<br />\n<br />\nWe kindly ask that you register by June 3\, 2025 to confirm your participation. We eagerly anticipate your presence on the course and extend our sincere appreciation for your ongoing dedication and support.&nbsp\;<br />\n<br />\nPlease see sponsorship opportunities below.</span></span></span></div>\n</div>\n</div>\n</div>\n
LOCATION:Elk River Golf Club 20015 Elk Lake Rd NW Elk River
UID:e.32.32519
SEQUENCE:3
DTSTAMP:20260419T200710Z
URL:http://mobile.elkriverchamber.org/events/details/three-rivers-foundation-golf-tournament-37th-annual-32519
END:VEVENT

END:VCALENDAR
