BEGIN:VCALENDAR
VERSION:2.0
PRODID:-//ChamberMaster//Event Calendar 2.0//EN
METHOD:PUBLISH
X-PUBLISHED-TTL:P3D
REFRESH-INTERVAL:P3D
CALSCALE:GREGORIAN
BEGIN:VEVENT
DTSTART:20250612T163000Z
DTEND:20250612T190000Z
X-MICROSOFT-CDO-ALLDAYEVENT:FALSE
SUMMARY:The Bank of Elk River
DESCRIPTION:The Bank of Elk River is celebrating 140 Years!\n\nJoin them for food and games Thursday\, June 12th from 11:30am-2pm
X-ALT-DESC;FMTTYPE=text/html:The Bank of Elk River is celebrating 140 Years!<br />\nJoin them for food and games Thursday\, June 12th from 11:30am-2pm
LOCATION:The Bank of Elk River 630 Main St. Elk River
UID:e.32.32607
SEQUENCE:3
DTSTAMP:20260419T132958Z
URL:http://mobile.elkriverchamber.org/events/details/the-bank-of-elk-river-32607
END:VEVENT

END:VCALENDAR
