BEGIN:VCALENDAR
VERSION:2.0
PRODID:-//ChamberMaster//Event Calendar 2.0//EN
METHOD:PUBLISH
X-PUBLISHED-TTL:P3D
REFRESH-INTERVAL:P3D
CALSCALE:GREGORIAN
BEGIN:VEVENT
DTSTART:20250617T150000Z
DTEND:20250617T170000Z
X-MICROSOFT-CDO-ALLDAYEVENT:FALSE
SUMMARY:Summer Story Stroll Kickoff Event
DESCRIPTION:Join us for the kickoff of our Bilingual Book Walk:\n\nSearching for Habitat.\n\n\n\nAttendees can walk and read the new story\, enjoy free JonnyPops popsicles\, and receive a free make-and-take craft of a pinecone bird feeder (while supplies last). Hear about pollinators and habitats from the Sherburne County Soil and Water Conservation District.\n\nThe kickoff event will be Tuesday\, June 17 at Lion John Weicht Park from 10:00 a.m. to 12:00 p.m.\n\nThe story\, Searching for Habitat\, will remain in the park through July 8.\n\nThank you to the Elk River Library and Sherburne County for partnering with us!
X-ALT-DESC;FMTTYPE=text/html:<p fr-original-style="" id="isPasted" style="box-sizing: inherit\; margin: 0px 0px 1.4em\; padding: 0px\; border: 0px\; outline: 0px\; font-size: 16px\; font-family: &quot\;Open Sans&quot\;\; vertical-align: baseline\; color: rgb(56\, 56\, 56)\; background-color: rgb(255\, 255\, 255)\; line-height: 1.5\;"><span style="font-size:16px\;"><span style="font-family:arial\;">Join us for the kickoff of our Bilingual Book Walk:<br />\nSearching for Habitat.<br />\n<br />\nAttendees can walk and read the new story\, enjoy free JonnyPops popsicles\, and receive a free make-and-take craft of a pinecone bird feeder (while supplies last). Hear about pollinators and habitats from the Sherburne County Soil and Water Conservation District.</span></span></p>\n\n<p fr-original-style="" style="box-sizing: inherit\; margin: 0px 0px 1.4em\; padding: 0px\; border: 0px\; outline: 0px\; font-size: 16px\; font-family: &quot\;Open Sans&quot\;\; vertical-align: baseline\; color: rgb(56\, 56\, 56)\; background-color: rgb(255\, 255\, 255)\; line-height: 1.5\;"><span style="font-size:16px\;"><span style="font-family:arial\;">The kickoff event will be Tuesday\, June 17 at Lion John Weicht Park from 10:00 a.m. to 12:00 p.m.</span></span></p>\n\n<p fr-original-style="" style="box-sizing: inherit\; margin: 0px 0px 1.4em\; padding: 0px\; border: 0px\; outline: 0px\; font-size: 16px\; font-family: &quot\;Open Sans&quot\;\; vertical-align: baseline\; color: rgb(56\, 56\, 56)\; background-color: rgb(255\, 255\, 255)\; line-height: 1.5\;"><span style="font-size:16px\;"><span style="font-family:arial\;">The story\, Searching for Habitat\, will remain in the park through July 8.</span></span></p>\n\n<p fr-original-style="" style="box-sizing: inherit\; margin: 0px 0px 1.4em\; padding: 0px\; border: 0px\; outline: 0px\; font-size: 16px\; font-family: &quot\;Open Sans&quot\;\; vertical-align: baseline\; color: rgb(56\, 56\, 56)\; background-color: rgb(255\, 255\, 255)\; line-height: 1.5\;"><span style="font-size:16px\;"><span style="font-family:arial\;">Thank you to the Elk River Library and Sherburne County for partnering with us!</span></span></p>\n
LOCATION:Lion John Weicht Park 1104 Lions Park Dr Elk River
UID:e.32.32566
SEQUENCE:3
DTSTAMP:20260419T201026Z
URL:http://mobile.elkriverchamber.org/events/details/summer-story-stroll-kickoff-event-32566
END:VEVENT

END:VCALENDAR
