BEGIN:VCALENDAR
VERSION:2.0
PRODID:-//ChamberMaster//Event Calendar 2.0//EN
METHOD:PUBLISH
X-PUBLISHED-TTL:P3D
REFRESH-INTERVAL:P3D
CALSCALE:GREGORIAN
BEGIN:VEVENT
DTSTART;VALUE=DATE:20250510
DTEND;VALUE=DATE:20250511
TRANSP:TRANSPARENT
X-MICROSOFT-CDO-ALLDAYEVENT:TRUE
SUMMARY:Stamp Out Hunger - Food Drive
DESCRIPTION:Stamp Out Hunger is the annual food drive by the National Letter Carrier's Association. \n\nPlace a bag of nonperishable foods at your mailbox on Saturday May 10\, and your letter carrier will do the rest! \n\nThis nationwide drive supports food shelves\, pantries and food banks all over the country.\n\nIn 55330\, donations will be delivered to CAER throughout the day.
X-ALT-DESC;FMTTYPE=text/html:<span style="color:#403F42\;"><span style="font-family:arial\,sans-serif\;"><span style="font-size:10.5pt\;">Stamp Out Hunger is the annual food drive by the National Letter Carrier&#39\;s Association. </span></span></span><br />\n<span style="color:#403F42\;"><span style="font-family:arial\,sans-serif\;"><span style="font-size:10.5pt\;">Place a bag of nonperishable foods at your mailbox on Saturday May 10\, and your letter carrier will do the rest! </span></span></span><br />\n<span style="font-size:10.5pt\;"><span style="font-family:arial\,sans-serif\;"><span style="color:#403f42\;">This nationwide drive supports food shelves\, pantries and food banks all over the country.</span></span></span><br />\n<span style="color:#403F42\;"><span style="font-family:arial\,sans-serif\;"><span style="font-size:10.5pt\;">In 55330\, donations will be delivered to CAER throughout the day.&nbsp\;</span></span></span>
LOCATION:Place a bag of nonperishable foods at your mailbox on Saturday May 10\, and your letter carrier will do the rest!
UID:e.32.32533
SEQUENCE:3
DTSTAMP:20260423T095013Z
URL:http://mobile.elkriverchamber.org/events/details/stamp-out-hunger-food-drive-32533
END:VEVENT

END:VCALENDAR
