BEGIN:VCALENDAR
VERSION:2.0
PRODID:-//ChamberMaster//Event Calendar 2.0//EN
METHOD:PUBLISH
X-PUBLISHED-TTL:P3D
REFRESH-INTERVAL:P3D
CALSCALE:GREGORIAN
BEGIN:VEVENT
DTSTART;VALUE=DATE:20250808
DTEND;VALUE=DATE:20250809
TRANSP:TRANSPARENT
X-MICROSOFT-CDO-ALLDAYEVENT:TRUE
SUMMARY:Sour Summer Fridays
DESCRIPTION:Fridays just got funkier. From July 11th through August 29th\, we're celebrating summer with Sour Summer Fridays\, a weekly showcase of tart\, wild\, and downright delicious beer. Expect rotating infusions\, limited bottle releases\, and a promo that rewards your good taste.\n\n\n\nEach Friday\, when you order a pour of Scribbled Lines\, you'll receive a $3 coupon toward a bottle purchase of Scribbled Lines. But these coupons are only available on Fridays and must be used the same day.\n\n\n\nThat's not all. Buying a Scribbled Lines bottle? Get a punch on your Sour Summer punch card. Fill the card and earn a custom Lupulin sour-themed t-shirt. There is no cap on how many punch cards you can complete\, so go wild. \n\n\n\nSCHEDULE OF BOTTLE RELEASES & INFUSIONS\n\nJuly 11\n\nBottle Release: Fragmentary Delusion Marionberry\n\nJuly 18\n\nInfusion: R n  with Cucumber\, Mango\, Jalape o\, and Salt\n\nJuly 25\n\nInfusion: Fragmentary Delusion Marionberry Pie\n\nAugust 1\n\nBottle Release: B r s v.4 Cara Cara Orange & Cranberry\n\nAugust 8\n\nInfusion: B r s v.4 Creamsicle Slushy\n\nAugust 15\n\nDraft Release: Barrel-Aged Funky Grodziskie\n\nAugust 22\n\nBottle Release: Star Damage Zumo & Grapefruit\n\nAugust 29\n\nInfusion: R n  v.3 with Pineapple\n\n\n\nFridays were already the best day of the week. Now they taste like it\, too. Come collect some bottles\, try something rare\, and maybe walk away with a t-shirt that proves you love your beer a little funky.
X-ALT-DESC;FMTTYPE=text/html:<span style="font-size:16px\;"><span style="font-family:arial\;"><span style="text-align: center\; background-color: rgb(255\, 255\, 255)\;">Fridays just got funkier. From&nbsp\;</span><strong style="font-family: Helvetica\, sans-serif\; font-size: 14px\; text-align: center\; background-color: rgb(255\, 255\, 255)\;">July 11th through August 29th</strong><span style="text-align: center\; background-color: rgb(255\, 255\, 255)\;">\, we&#39\;re celebrating summer with Sour Summer Fridays\, a weekly showcase of tart\, wild\, and downright delicious beer. Expect rotating infusions\, limited bottle releases\, and a promo that rewards your good taste.</span><br style="font-family: Helvetica\, sans-serif\; font-size: 14px\; text-align: center\; background-color: rgb(255\, 255\, 255)\;" />\n<br style="font-family: Helvetica\, sans-serif\; font-size: 14px\; text-align: center\; background-color: rgb(255\, 255\, 255)\;" />\n<span style="text-align: center\; background-color: rgb(255\, 255\, 255)\;">Each Friday\, when you order a pour of Scribbled Lines\, you&#39\;ll receive a $3 coupon toward a bottle purchase of Scribbled Lines. But these coupons are only available on Fridays and must be used the same day.</span><br style="font-family: Helvetica\, sans-serif\; font-size: 14px\; text-align: center\; background-color: rgb(255\, 255\, 255)\;" />\n<br style="font-family: Helvetica\, sans-serif\; font-size: 14px\; text-align: center\; background-color: rgb(255\, 255\, 255)\;" />\n<span style="text-align: center\; background-color: rgb(255\, 255\, 255)\;">That&#39\;s not all. Buying a Scribbled Lines bottle? Get a punch on your Sour Summer punch card. Fill the card and earn a custom Lupulin sour-themed t-shirt. There is no cap on how many punch cards you can complete\, so go wild.&nbsp\;</span><br style="font-family: Helvetica\, sans-serif\; font-size: 14px\; text-align: center\; background-color: rgb(255\, 255\, 255)\;" />\n<br style="font-family: Helvetica\, sans-serif\; font-size: 14px\; text-align: center\; background-color: rgb(255\, 255\, 255)\;" />\n<strong style="font-family: Helvetica\, sans-serif\; font-size: 14px\; text-align: center\; background-color: rgb(255\, 255\, 255)\;">SCHEDULE OF BOTTLE RELEASES &amp\; INFUSIONS</strong><br style="font-family: Helvetica\, sans-serif\; font-size: 14px\; text-align: center\; background-color: rgb(255\, 255\, 255)\;" />\n<strong style="font-family: Helvetica\, sans-serif\; font-size: 14px\; text-align: center\; background-color: rgb(255\, 255\, 255)\;">July 11</strong><br style="font-family: Helvetica\, sans-serif\; font-size: 14px\; text-align: center\; background-color: rgb(255\, 255\, 255)\;" />\n<span style="text-align: center\; background-color: rgb(255\, 255\, 255)\;">Bottle Release:&nbsp\;</span><em style="font-family: Helvetica\, sans-serif\; font-size: 14px\; text-align: center\; background-color: rgb(255\, 255\, 255)\;">Fragmentary Delusion Marionberry</em><br style="font-family: Helvetica\, sans-serif\; font-size: 14px\; text-align: center\; background-color: rgb(255\, 255\, 255)\;" />\n<strong style="font-family: Helvetica\, sans-serif\; font-size: 14px\; text-align: center\; background-color: rgb(255\, 255\, 255)\;">July 18</strong><br style="font-family: Helvetica\, sans-serif\; font-size: 14px\; text-align: center\; background-color: rgb(255\, 255\, 255)\;" />\n<span style="text-align: center\; background-color: rgb(255\, 255\, 255)\;">Infusion:&nbsp\;</span><em style="font-family: Helvetica\, sans-serif\; font-size: 14px\; text-align: center\; background-color: rgb(255\, 255\, 255)\;">R&euml\;n&euml\; with Cucumber\, Mango\, Jalape&ntilde\;o\, and Salt</em><br style="font-family: Helvetica\, sans-serif\; font-size: 14px\; text-align: center\; background-color: rgb(255\, 255\, 255)\;" />\n<strong style="font-family: Helvetica\, sans-serif\; font-size: 14px\; text-align: center\; background-color: rgb(255\, 255\, 255)\;">July 25</strong><br style="font-family: Helvetica\, sans-serif\; font-size: 14px\; text-align: center\; background-color: rgb(255\, 255\, 255)\;" />\n<span style="text-align: center\; background-color: rgb(255\, 255\, 255)\;">Infusion:&nbsp\;</span><em style="font-family: Helvetica\, sans-serif\; font-size: 14px\; text-align: center\; background-color: rgb(255\, 255\, 255)\;">Fragmentary Delusion Marionberry Pie</em><br style="font-family: Helvetica\, sans-serif\; font-size: 14px\; text-align: center\; background-color: rgb(255\, 255\, 255)\;" />\n<strong style="font-family: Helvetica\, sans-serif\; font-size: 14px\; text-align: center\; background-color: rgb(255\, 255\, 255)\;">August 1</strong><br style="font-family: Helvetica\, sans-serif\; font-size: 14px\; text-align: center\; background-color: rgb(255\, 255\, 255)\;" />\n<span style="text-align: center\; background-color: rgb(255\, 255\, 255)\;">Bottle Release:&nbsp\;</span><em style="font-family: Helvetica\, sans-serif\; font-size: 14px\; text-align: center\; background-color: rgb(255\, 255\, 255)\;">B&ouml\;r&iuml\;s v.4 Cara Cara Orange &amp\; Cranberry</em><br style="font-family: Helvetica\, sans-serif\; font-size: 14px\; text-align: center\; background-color: rgb(255\, 255\, 255)\;" />\n<strong style="font-family: Helvetica\, sans-serif\; font-size: 14px\; text-align: center\; background-color: rgb(255\, 255\, 255)\;">August 8</strong><br style="font-family: Helvetica\, sans-serif\; font-size: 14px\; text-align: center\; background-color: rgb(255\, 255\, 255)\;" />\n<span style="text-align: center\; background-color: rgb(255\, 255\, 255)\;">Infusion:&nbsp\;</span><em style="font-family: Helvetica\, sans-serif\; font-size: 14px\; text-align: center\; background-color: rgb(255\, 255\, 255)\;">B&ouml\;r&iuml\;s v.4 Creamsicle Slushy</em><br style="font-family: Helvetica\, sans-serif\; font-size: 14px\; text-align: center\; background-color: rgb(255\, 255\, 255)\;" />\n<strong style="font-family: Helvetica\, sans-serif\; font-size: 14px\; text-align: center\; background-color: rgb(255\, 255\, 255)\;">August 15</strong><br style="font-family: Helvetica\, sans-serif\; font-size: 14px\; text-align: center\; background-color: rgb(255\, 255\, 255)\;" />\n<span style="text-align: center\; background-color: rgb(255\, 255\, 255)\;">Draft Release:&nbsp\;</span><em style="font-family: Helvetica\, sans-serif\; font-size: 14px\; text-align: center\; background-color: rgb(255\, 255\, 255)\;">Barrel-Aged Funky Grodziskie</em><br style="font-family: Helvetica\, sans-serif\; font-size: 14px\; text-align: center\; background-color: rgb(255\, 255\, 255)\;" />\n<strong style="font-family: Helvetica\, sans-serif\; font-size: 14px\; text-align: center\; background-color: rgb(255\, 255\, 255)\;">August 22</strong><br style="font-family: Helvetica\, sans-serif\; font-size: 14px\; text-align: center\; background-color: rgb(255\, 255\, 255)\;" />\n<span style="text-align: center\; background-color: rgb(255\, 255\, 255)\;">Bottle Release:&nbsp\;</span><em style="font-family: Helvetica\, sans-serif\; font-size: 14px\; text-align: center\; background-color: rgb(255\, 255\, 255)\;">Star Damage Zumo &amp\; Grapefruit</em><br style="font-family: Helvetica\, sans-serif\; font-size: 14px\; text-align: center\; background-color: rgb(255\, 255\, 255)\;" />\n<strong style="font-family: Helvetica\, sans-serif\; font-size: 14px\; text-align: center\; background-color: rgb(255\, 255\, 255)\;">August 29</strong><br style="font-family: Helvetica\, sans-serif\; font-size: 14px\; text-align: center\; background-color: rgb(255\, 255\, 255)\;" />\n<span style="text-align: center\; background-color: rgb(255\, 255\, 255)\;">Infusion:&nbsp\;</span><em style="font-family: Helvetica\, sans-serif\; font-size: 14px\; text-align: center\; background-color: rgb(255\, 255\, 255)\;">R&euml\;n&euml\; v.3 with Pineapple</em><br style="font-family: Helvetica\, sans-serif\; font-size: 14px\; text-align: center\; background-color: rgb(255\, 255\, 255)\;" />\n<br style="font-family: Helvetica\, sans-serif\; font-size: 14px\; text-align: center\; background-color: rgb(255\, 255\, 255)\;" />\n<span style="text-align: center\; background-color: rgb(255\, 255\, 255)\;">Fridays were already the best day of the week. Now they taste like it\, too. Come collect some bottles\, try something rare\, and maybe walk away with a t-shirt that proves you love your beer a little funky.</span></span></span>
LOCATION:Lupulin Brewing 570 Humboldt Drive Suite 107 Big Lake
UID:e.32.32636
SEQUENCE:3
DTSTAMP:20260421T160342Z
URL:http://mobile.elkriverchamber.org/events/details/sour-summer-fridays-08-08-2025-32636
END:VEVENT

END:VCALENDAR
