BEGIN:VCALENDAR
VERSION:2.0
PRODID:-//ChamberMaster//Event Calendar 2.0//EN
METHOD:PUBLISH
X-PUBLISHED-TTL:P3D
REFRESH-INTERVAL:P3D
CALSCALE:GREGORIAN
BEGIN:VEVENT
DTSTART:20250918T233000Z
DTEND:20250919T003000Z
X-MICROSOFT-CDO-ALLDAYEVENT:FALSE
SUMMARY:Sound Bathing at the Barn
DESCRIPTION:Sound Bath at the Barn\n\nUnwind\, restore\, and realign with the healing power of sound.  Join us inside the beautiful red barn at Trott Brook Farm Park for an immersive sound bath experience guided by Halo Heart Yoga and Sound.  Let soothing vibrations of crystal singing bowls\, chimes\, and other harmonic instruments wash over you\, helping to quiet the mind\, release tenson\, and create a deep state of relaxation.  This serene evening is perfect midweek reset for your body\, mind\, and spirit.  \n\n\n\nDate: Thursday\, September 18\, 2025\n\nTime: 6:30 pm\n\nLocation: Trott Brook Farm Park- The Red Barn: 18300 Trott Brook PKWY NW\,  Elk River 55330\n\nCost: $15\n\nRegistration: Available through Elk River Parks and Recreation under Adult Leagues/Classes. \n\nhttps://secure.rec1.com/MN/elk-river-parks-rec-mn/catalog\n\n\n\nPlease bring a yoga mat\, blanket\, pillow\, zero gravity lounger\, or anything that helps you to feel cozy as you rest and receive the sound.  No experience necessary.  \n\n\n\nReceive a free class pass to Azitala Hot Yoga.  One pass per person.
X-ALT-DESC;FMTTYPE=text/html:<span style="font-family:arial\;"><span style="font-size:16px\;">Sound Bath at the Barn<br />\nUnwind\, restore\, and realign with the healing power of sound.&nbsp\; Join us inside the beautiful red barn at Trott Brook Farm Park for an immersive sound bath experience guided by Halo Heart Yoga and Sound.&nbsp\; Let soothing vibrations of crystal singing bowls\, chimes\, and other harmonic instruments wash over you\, helping to quiet the mind\, release tenson\, and create a deep state of relaxation.&nbsp\; This serene evening is perfect midweek reset for your body\, mind\, and spirit.&nbsp\;&nbsp\;<br />\n<br />\nDate: Thursday\, September 18\, 2025<br />\nTime: 6:30 pm<br />\nLocation: Trott Brook Farm Park- The Red Barn: 18300 Trott Brook PKWY NW\,&nbsp\; Elk River 55330<br />\nCost: $15<br />\nRegistration: Available through Elk River Parks and Recreation under Adult Leagues/Classes.&nbsp\;<br />\nhttps://secure.rec1.com/MN/elk-river-parks-rec-mn/catalog<br />\n<br />\nPlease bring a yoga mat\, blanket\, pillow\, zero gravity lounger\, or anything that helps you to feel cozy as you rest and receive the sound.&nbsp\; No experience necessary.&nbsp\;&nbsp\;<br />\n<br />\nReceive a free class pass to Azitala Hot Yoga.&nbsp\; One pass per person.</span></span><br />\n&nbsp\;
LOCATION:Trott Brook Farm Park- The Red Barn 18300 Trott Brook PKWY NW Elk River 55330
UID:e.32.32708
SEQUENCE:3
DTSTAMP:20260421T160132Z
URL:http://mobile.elkriverchamber.org/events/details/sound-bathing-at-the-barn-32708
END:VEVENT

END:VCALENDAR
