BEGIN:VCALENDAR
VERSION:2.0
PRODID:-//ChamberMaster//Event Calendar 2.0//EN
METHOD:PUBLISH
X-PUBLISHED-TTL:P3D
REFRESH-INTERVAL:P3D
CALSCALE:GREGORIAN
BEGIN:VEVENT
DTSTART:20251016T233000Z
DTEND:20251017T003000Z
X-MICROSOFT-CDO-ALLDAYEVENT:FALSE
SUMMARY:Sound Bathing at the Barn
DESCRIPTION:Sound Bath at the Red Barn\n\nUnwind\, restore\, and realign with the healing power of sound. Join us inside the beautiful Red Barn at Trott Brook Farm Park for an immersive sound bath experience guided by Halo Heart Yoga & Sound.\n\n\n\nLet the soothing vibrations of crystal singing bowls\, chimes\, and other harmonic instruments wash over you\, helping to quiet the mind\, release tension\, and create a deep state of relaxation. This serene evening is the perfect midweek reset for your body\, mind\, and spirit.\n\n\n\nDates: \n\nThursday\, October 16\, 2025\n\nTime: 6:30 PM\n\nLocation: Trott Brook Farm Park   The Red Barn: 18300 Trott Brook PKWY\,  Elk River\, MN 55330.\n\nCost: $15\n\n\n\nRegistration: Available through Elk River Parks and Recreation under Adult league/classes.\n\nClick below to register:\n\nhttps://secure.rec1.com/MN/elk-river-parks-rec-mn/catalog\n\n\n\nBring a yoga mat\, blanket\, pillow\, zero gravity lounger or anything that helps you feel cozy as you rest and receive the sound. No experience necessary.\n\n\n\nReceive a free class pass to Azitala Hot Yoga.  One pass per person.
X-ALT-DESC;FMTTYPE=text/html:<span style="font-size:16px\;"><span style="font-family:arial\;">Sound Bath at the Red Barn<br />\nUnwind\, restore\, and realign with the healing power of sound. Join us inside the beautiful Red Barn at Trott Brook Farm Park for an immersive sound bath experience guided by Halo Heart Yoga &amp\; Sound.<br />\n<br />\nLet the soothing vibrations of crystal singing bowls\, chimes\, and other harmonic instruments wash over you\, helping to quiet the mind\, release tension\, and create a deep state of relaxation. This serene evening is the perfect midweek reset for your body\, mind\, and spirit.<br />\n<br />\nDates:&nbsp\;<br />\nThursday\, October 16\, 2025<br />\nTime: 6:30 PM<br />\nLocation: Trott Brook Farm Park &ndash\; The Red Barn: 18300 Trott Brook PKWY\,&nbsp\; Elk River\, MN 55330.<br />\nCost: $15<br />\n<br />\nRegistration: Available through Elk River Parks and Recreation under Adult league/classes.<br />\nClick below to register:<br />\nhttps://secure.rec1.com/MN/elk-river-parks-rec-mn/catalog<br />\n<br />\nBring a yoga mat\, blanket\, pillow\, zero gravity lounger or anything that helps you feel cozy as you rest and receive the sound. No experience necessary.<br />\n<br />\nReceive a free class pass to Azitala Hot Yoga.&nbsp\; One pass per person.</span></span>
LOCATION:Trott Brook Farm Park 18300 Trott Brook PKWY Elk River\, MN 55330.
UID:e.32.32710
SEQUENCE:3
DTSTAMP:20260421T175709Z
URL:http://mobile.elkriverchamber.org/events/details/sound-bathing-at-the-barn-10-16-2025-32710
END:VEVENT

END:VCALENDAR
