BEGIN:VCALENDAR
VERSION:2.0
PRODID:-//ChamberMaster//Event Calendar 2.0//EN
METHOD:PUBLISH
X-PUBLISHED-TTL:P3D
REFRESH-INTERVAL:P3D
CALSCALE:GREGORIAN
BEGIN:VEVENT
DTSTART;VALUE=DATE:20251108
DTEND;VALUE=DATE:20251109
TRANSP:TRANSPARENT
X-MICROSOFT-CDO-ALLDAYEVENT:TRUE
SUMMARY:Shop. Dine. Unwind
DESCRIPTION:\,     \,       \n\nSaturday Nov. 8th\, 2025\n\nDowntown Elk River\, MN\n\nSpend the day in our charming downtown district!\n\nPick up a punchcard at one of our many participating businesses for your chance to win prizes and gift cards*\n\nGrab a friend\, shop exclusive deals\, and support your local community!\n\nMore information and participating businesses list to come.\n\n*see punchcard for rules and details
X-ALT-DESC;FMTTYPE=text/html:<div class="xdj266r x14z9mp xat24cr x1lziwak x1vvkbs" style="overflow-wrap: break-word\; margin-inline: 0px\; margin-bottom: 0px\; margin-top: 0px\; font-family: &quot\;Segoe UI Historic&quot\;\, &quot\;Segoe UI&quot\;\, Helvetica\, Arial\, sans-serif\; color: rgb(8\, 8\, 9)\; font-size: 15px\; background-color: rgb(255\, 255\, 255)\;"><span style="font-size:16px\;"><span style="font-family:arial\;">&#119930\;&#119945\;&#119952\;&#119953\;\, &#119915\;&#119946\;&#119951\;&#119942\;\, &#119932\;&#119951\;&#119960\;&#119946\;&#119951\;&#119941\;</span></span></div>\n\n<div class="x14z9mp xat24cr x1lziwak x1vvkbs xtlvy1s" style="overflow-wrap: break-word\; margin-top: 0.5em\; margin-inline: 0px\; margin-bottom: 0px\; font-family: &quot\;Segoe UI Historic&quot\;\, &quot\;Segoe UI&quot\;\, Helvetica\, Arial\, sans-serif\; color: rgb(8\, 8\, 9)\; font-size: 15px\; background-color: rgb(255\, 255\, 255)\;"><span style="font-size:16px\;"><span style="font-family:arial\;">Saturday Nov. 8th\, 2025<br class="html-br" />\nDowntown Elk River\, MN</span></span></div>\n\n<div class="x14z9mp xat24cr x1lziwak x1vvkbs xtlvy1s" style="overflow-wrap: break-word\; margin-top: 0.5em\; margin-inline: 0px\; margin-bottom: 0px\; font-family: &quot\;Segoe UI Historic&quot\;\, &quot\;Segoe UI&quot\;\, Helvetica\, Arial\, sans-serif\; color: rgb(8\, 8\, 9)\; font-size: 15px\; background-color: rgb(255\, 255\, 255)\;"><span style="font-size:16px\;"><span style="font-family:arial\;">Spend the day in our charming downtown district!</span></span></div>\n\n<div class="x14z9mp xat24cr x1lziwak x1vvkbs xtlvy1s" style="overflow-wrap: break-word\; margin-top: 0.5em\; margin-inline: 0px\; margin-bottom: 0px\; font-family: &quot\;Segoe UI Historic&quot\;\, &quot\;Segoe UI&quot\;\, Helvetica\, Arial\, sans-serif\; color: rgb(8\, 8\, 9)\; font-size: 15px\; background-color: rgb(255\, 255\, 255)\;"><span style="font-size:16px\;"><span style="font-family:arial\;">Pick up a punchcard at one of our many participating businesses for your chance to win prizes and gift cards*</span></span></div>\n\n<div class="x14z9mp xat24cr x1lziwak x1vvkbs xtlvy1s" style="overflow-wrap: break-word\; margin-top: 0.5em\; margin-inline: 0px\; margin-bottom: 0px\; font-family: &quot\;Segoe UI Historic&quot\;\, &quot\;Segoe UI&quot\;\, Helvetica\, Arial\, sans-serif\; color: rgb(8\, 8\, 9)\; font-size: 15px\; background-color: rgb(255\, 255\, 255)\;"><span style="font-size:16px\;"><span style="font-family:arial\;">Grab a friend\, shop exclusive deals\, and support your local community!</span></span></div>\n\n<div class="x14z9mp xat24cr x1lziwak x1vvkbs xtlvy1s" style="overflow-wrap: break-word\; margin-top: 0.5em\; margin-inline: 0px\; margin-bottom: 0px\; font-family: &quot\;Segoe UI Historic&quot\;\, &quot\;Segoe UI&quot\;\, Helvetica\, Arial\, sans-serif\; color: rgb(8\, 8\, 9)\; font-size: 15px\; background-color: rgb(255\, 255\, 255)\;"><span style="font-size:16px\;"><span style="font-family:arial\;">More information and participating businesses list to come.</span></span></div>\n\n<div class="x14z9mp xat24cr x1lziwak x1vvkbs xtlvy1s" style="overflow-wrap: break-word\; margin-top: 0.5em\; margin-inline: 0px\; margin-bottom: 0px\; font-family: &quot\;Segoe UI Historic&quot\;\, &quot\;Segoe UI&quot\;\, Helvetica\, Arial\, sans-serif\; color: rgb(8\, 8\, 9)\; font-size: 15px\; background-color: rgb(255\, 255\, 255)\;"><span style="font-size:16px\;"><span style="font-family:arial\;">*see punchcard for rules and details</span></span></div>\n
LOCATION:Downtown Elk River
UID:e.32.32752
SEQUENCE:3
DTSTAMP:20260421T194531Z
URL:http://mobile.elkriverchamber.org/events/details/shop-dine-unwind-32752
END:VEVENT

END:VCALENDAR
