BEGIN:VCALENDAR
VERSION:2.0
PRODID:-//ChamberMaster//Event Calendar 2.0//EN
METHOD:PUBLISH
X-PUBLISHED-TTL:P3D
REFRESH-INTERVAL:P3D
CALSCALE:GREGORIAN
BEGIN:VEVENT
DTSTART:20250522T123000Z
DTEND:20250522T150000Z
X-MICROSOFT-CDO-ALLDAYEVENT:FALSE
SUMMARY:Sherburne History Center Bird Walks
DESCRIPTION:Learn birding techniques and the importance of habitat and phenology. Use of binoculars\, spotting scopes\, cameras and cell phone apps will be covered. \n\n \n\nPlease dress appropriately for a two hour hike along mostly gravel and dirt/grass trails. Pace of the hike will be matched to the group and trails are not strenuous.\n\n\n\nPlease register to attend
X-ALT-DESC;FMTTYPE=text/html:<p class="yU1AD eBpBo XxGZC ozAti" dir="auto" id="viewer-foo" style="background: transparent\; border: 0px\; outline: 0px\; padding: 0px\; vertical-align: baseline\; text-align: initial\; -webkit-tap-highlight-color: rgba(0\, 0\, 0\, 0)\; color: rgb(0\, 0\, 0)\; font-family: avenir-lt-w01_35-light1475496\, sans-serif\; font-size: 16px\; line-height: 1.5\; min-height: auto\; box-sizing: inherit\; margin: 0px\; white-space-collapse: preserve\;"><span class="yakoZ" style="background: transparent\; border: 0px\; margin: 0px\; outline: 0px\; padding: 0px\; vertical-align: baseline\; text-align: initial\; -webkit-tap-highlight-color: rgba(0\, 0\, 0\, 0)\; display: block\; box-sizing: inherit\;"><span style="font-size:16px\;"><span style="font-family:arial\;"><span style="background: rgba(0\, 0\, 0\, 0)\; border: 0px\; margin: 0px\; outline: 0px\; padding: 0px\; vertical-align: baseline\; -webkit-tap-highlight-color: rgba(0\, 0\, 0\, 0)\; box-sizing: inherit\;">Learn birding techniques and the importance of habitat and phenology. Use of binoculars\, spotting scopes\, cameras and cell phone apps will be covered.&nbsp\;</span></span></span></span></p>\n\n<div class="yU1AD eBpBo XxGZC ozAti" dir="auto" id="viewer-1tsb2442" style="background: transparent\; border: 0px\; outline: 0px\; padding: 0px\; vertical-align: baseline\; text-align: initial\; -webkit-tap-highlight-color: rgba(0\, 0\, 0\, 0)\; color: rgb(0\, 0\, 0)\; font-family: avenir-lt-w01_35-light1475496\, sans-serif\; font-size: 16px\; line-height: 1.5\; min-height: auto\; box-sizing: inherit\; margin: 0px\; white-space-collapse: preserve\; margin-inline-start: 0px !important\;">&nbsp\;</div>\n\n<p class="yU1AD eBpBo XxGZC ozAti" dir="auto" id="viewer-bpakf443" style="background: transparent\; border: 0px\; outline: 0px\; padding: 0px\; vertical-align: baseline\; text-align: initial\; -webkit-tap-highlight-color: rgba(0\, 0\, 0\, 0)\; color: rgb(0\, 0\, 0)\; font-family: avenir-lt-w01_35-light1475496\, sans-serif\; font-size: 16px\; line-height: 1.5\; min-height: auto\; box-sizing: inherit\; margin: 0px\; white-space-collapse: preserve\;"><span class="yakoZ" style="background: transparent\; border: 0px\; margin: 0px\; outline: 0px\; padding: 0px\; vertical-align: baseline\; text-align: initial\; -webkit-tap-highlight-color: rgba(0\, 0\, 0\, 0)\; display: block\; box-sizing: inherit\;"><span style="background: rgba(0\, 0\, 0\, 0)\; border: 0px\; margin: 0px\; outline: 0px\; padding: 0px\; vertical-align: baseline\; -webkit-tap-highlight-color: rgba(0\, 0\, 0\, 0)\; box-sizing: inherit\;"><span style="font-size:16px\;"><span style="font-family:arial\;">Please dress appropriately for a two hour hike along mostly gravel and dirt/grass trails. Pace of the hike will be matched to the group and trails are not strenuous.</span></span><br />\n<br />\n<a href="https://www.sherburnehistorycenter.org/event-details-registration/bird-walks-with-dean-kleinhans-2025-04-24-07-30/form">Please register to attend</a></span></span><br />\n<br />\n<br />\n&nbsp\;</p>\n
LOCATION:Sherburne History Center10775 27th Ave SE Becker
UID:e.32.32442
SEQUENCE:3
DTSTAMP:20260421T110815Z
URL:http://mobile.elkriverchamber.org/events/details/sherburne-history-center-bird-walks-32442
END:VEVENT

END:VCALENDAR
