BEGIN:VCALENDAR
VERSION:2.0
PRODID:-//ChamberMaster//Event Calendar 2.0//EN
METHOD:PUBLISH
X-PUBLISHED-TTL:P3D
REFRESH-INTERVAL:P3D
CALSCALE:GREGORIAN
BEGIN:VEVENT
DTSTART:20251004T150000Z
DTEND:20251004T190000Z
X-MICROSOFT-CDO-ALLDAYEVENT:FALSE
SUMMARY:Sherburne Fall Fest
DESCRIPTION:2-Mile Fun Run\, Soup & Chili Cookoff\, Scavenger Hunt\, Touch-A-Truck\, Food and Beverages\, Kids Activities\, Vendor Booths\, Bake Sale\, Beer Tent\, Pumpkin Painting\, and more!\n\n\n\nRegister here! https://beckerchamber.org/events/
X-ALT-DESC;FMTTYPE=text/html:<span style="font-size:16px\;"><span style="font-family: avenir-lt-w01_35-light1475496\, sans-serif\; text-align: center\; white-space-collapse: preserve\; background-color: rgb(242\, 244\, 250)\;"><span style="font-family:arial\;">2-Mile Fun Run\, Soup &amp\; Chili Cookoff\, Scavenger Hunt\, Touch-A-Truck\, Food and Beverages\, Kids Activities\, Vendor Booths\, Bake Sale\, Beer Tent\, Pumpkin Painting\, and more!</span></span></span><br />\n<br />\n<span style="font-family: avenir-lt-w01_35-light1475496\, sans-serif\; font-size: 16px\; text-align: center\; white-space-collapse: preserve\; background-color: rgb(242\, 244\, 250)\;">Register here! <a href="https://beckerchamber.org/events/">https://beckerchamber.org/events/</a></span><br />\n&nbsp\;
LOCATION:Sherburne History Center 10775 27th Ave SE Becker
UID:e.32.32716
SEQUENCE:3
DTSTAMP:20260421T192751Z
URL:http://mobile.elkriverchamber.org/events/details/sherburne-fall-fest-32716
END:VEVENT

END:VCALENDAR
