BEGIN:VCALENDAR
VERSION:2.0
PRODID:-//ChamberMaster//Event Calendar 2.0//EN
METHOD:PUBLISH
X-PUBLISHED-TTL:P3D
REFRESH-INTERVAL:P3D
CALSCALE:GREGORIAN
BEGIN:VEVENT
DTSTART:20250719T150000Z
DTEND:20250719T160000Z
X-MICROSOFT-CDO-ALLDAYEVENT:FALSE
SUMMARY:Sherburne County Fair Parade
DESCRIPTION:Come on out for annual county fair parade on Saturday July 19th at 10 A.M.\n\nTo register for our parade please visit our website at www.sherburnecountyfair.org/events/parade
X-ALT-DESC;FMTTYPE=text/html:<div class="xdj266r x14z9mp xat24cr x1lziwak x1vvkbs" style="margin: 0px\; overflow-wrap: break-word\; font-family: &quot\;Segoe UI Historic&quot\;\, &quot\;Segoe UI&quot\;\, Helvetica\, Arial\, sans-serif\; color: rgb(8\, 8\, 9)\; font-size: 15px\; background-color: rgb(255\, 255\, 255)\;">Come on out for annual county fair parade on Saturday July 19th at 10 A.M.</div>\n\n<div class="x14z9mp xat24cr x1lziwak x1vvkbs xtlvy1s" style="margin: 0.5em 0px 0px\; overflow-wrap: break-word\; font-family: &quot\;Segoe UI Historic&quot\;\, &quot\;Segoe UI&quot\;\, Helvetica\, Arial\, sans-serif\; color: rgb(8\, 8\, 9)\; font-size: 15px\; background-color: rgb(255\, 255\, 255)\;">To register for our parade please visit our website at&nbsp\;<a attributionsrc="/privacy_sandbox/comet/register/source/?xt=AZXrPa2sAL-d3OTgYXJRNubX-ERNpSkxmSgTsF_jkMgWMD15iIUAuFkVT4rA9BboeoymBXfXlytxiGZz9v9dUe9X_Pqdc-nV76nKLO_MHHQgS5O__8H5dIx-9kEun7GQL1PACxYIU0GCcpZRyhum_7RywIT2ZJVsex9JupoMRl6JrnyJhGc69qoKmJO-HeP0g-96DZyfL8hNTPgzCUJ5rxLvT4oSp23jvKbP_Jbokg-vl288NX8iNVKW1LSKMFbiVMSNY9PAndaCDUdOm38pPh33imbgyhV501wdm5nfTnNV-WEROKXiqpmnPI4toiFmB1W_MPoFq0gKIJesoFZidsJ_m7nF3pg5QhEn45jsx437ffg6Q98z1zJS0fm1E39vbCO9vaDkPBB1I7lWQLH7lIfxAV_eVPGapz7x7ZmLyu18NhBAh1wr87KwQofcxISYKY5W8-uHQC-UAS0ijiFLdJjBapdLT69B7tzsICDYa5MgGFRzjoNeoUM3a8hNHwvDyQBgr0h3j6nz3S5uPvcygQ6Zq5gQj443l60FZUxBjVSc7U9gtXuVMCJ-Do4dmPwhGvFqYHOohgT8fRpFtAfeq4M5m9aZjUWsnYdjxvqKPGo3qlwsg5bGQ259X0cu-I0tPD9vZrOqwAH7VsYM8GMXGTLSy1tuV2bBU5CwGBND5zAC73pzNQ03F7NfMVk04PYG8NQT8sGXWwPJdlPBiThq-wvj91QSQ0YZS5JakYWlZX_WYnyHOTXrTp62xgMsrjlsP35kbv27AbHtRjFBUKZorrKxLVPYfpMUbQh4i0yTv2N_3y5oX1Y5qAY0wTHKbmkifVgQCK_Velbm2Bm-kRpbyM8TEmg2VCYIpalwuWhMNZkBmw" class="x1i10hfl xjbqb8w x1ejq31n x18oe1m7 x1sy0etr xstzfhl x972fbf x10w94by x1qhh985 x14e42zd x9f619 x1ypdohk xt0psk2 xe8uvvx xdj266r x14z9mp xat24cr x1lziwak xexx8yu xyri2b x18d9i69 x1c1uobl x16tdsg8 x1hl2dhg xggy1nq x1a2a7pz xkrqix3 x1sur9pj x1fey0fg x1s688f" href="https://l.facebook.com/l.php?u=http%3A%2F%2Fwww.sherburnecountyfair.org%2Fevents%2Fparade%3Ffbclid%3DIwZXh0bgNhZW0CMTAAYnJpZBExY0ZhTUlicWs0YVZMdVRUYwEekAx3B2p3dQg__ld9boAFdI_MUBfx4-dgDJrV9lO46y9FvN3eFp1WPBL57us_aem_wXncD5T_jw3a1Uab5RP_dA&amp\;h=AT3m99socXHTPMrel6D2x7IDfpD-859tFYvO_DlpXVVh2hMw1fv3IQ_2SJ-xplx855y9Va9-82VmO_JzALFfXS4oRWlxPxQXhEHFR4IdrKLCxsmg-C8uuaNeXFKeSarXI7WOqSa9itNgzA&amp\;__tn__=q&amp\;c[0]=AT0TI903DGRutzQplgLgxOgK0Ev3rfPkjwhC_30OPBejYmWHipmcuxo-euSACNaSEyLVytfJJBSY_kjNSKE8_SOgOI9lJZDfo3F_amZHIq5IjGv-r7woGwt2LznHlxjfdm6OfA6im8LCKnPZsYIJTNLJ06eqzpmmT46FOg" rel="nofollow noreferrer" role="link" style="color: rgb(0\, 100\, 209)\; cursor: pointer\; text-decoration-line: none\; list-style: none\; border-width: 0px\; margin: 0px\; text-align: inherit\; border-style: none\; padding: 0px\; box-sizing: border-box\; background-color: transparent\; outline: none\; -webkit-tap-highlight-color: transparent\; font-weight: 600\; touch-action: manipulation\; display: inline\; font-family: inherit\;" tabindex="0" target="_blank">www.sherburnecountyfair.org/events/parade</a>&nbsp\;</div>\n
LOCATION:Located in Downtown Elk River Starts on Main St NW and Rush Ave NW. Follows Main St\, turns right onto Orono Rd NW\, and will end at the fairgrounds on Joplin St NW.
UID:e.32.32624
SEQUENCE:3
DTSTAMP:20260421T141029Z
URL:http://mobile.elkriverchamber.org/events/details/sherburne-county-fair-parade-32624
END:VEVENT

END:VCALENDAR
