BEGIN:VCALENDAR
VERSION:2.0
PRODID:-//ChamberMaster//Event Calendar 2.0//EN
METHOD:PUBLISH
X-PUBLISHED-TTL:P3D
REFRESH-INTERVAL:P3D
CALSCALE:GREGORIAN
BEGIN:VEVENT
DTSTART:20250930T220000Z
DTEND:20251001T000000Z
X-MICROSOFT-CDO-ALLDAYEVENT:FALSE
SUMMARY:Sensory Friendly Playdate at Avery’s Adventures
DESCRIPTION:Sensory Friendly Playdate!\n\nWe invite families of children with special needs to join us for a Sensory Friendly Playdate at Avery's Adventures.\n\n\n\nThis special event is designed just for families who have children with special needs -- providing a safe\, welcoming space to connect\, play\, and build community together.\n\n\n\nRegistration is required\, and space is limited. Please RSVP no later than Friday\, September 26th. \n\n\n\nRegister here\n\n\n\nCome and enjoy a fun evening where kids can explore and parents can connect with others who understand the journey.\n\n\n\nSponsored by Main Street Family Services
X-ALT-DESC;FMTTYPE=text/html:<span style="font-size:16px\;"><span style="font-family:arial\;"><strong>Sensory Friendly Playdate!</strong><br />\nWe invite families of children with special needs to join us for a <strong>Sensory Friendly Playdate</strong> at Avery&#39\;s Adventures.<br />\n<br />\nThis special event is designed just for families who have <strong>children with special needs</strong> -- providing a safe\, welcoming space to connect\, play\, and build community together.<br />\n<br />\nRegistration is required\, and space is limited. <strong>Please RSVP no later than Friday\, September 26th.&nbsp\;</strong><br />\n<br />\n<a href="https://forms.office.com/pages/responsepage.aspx?id=bwCSQzk8iUmN7m2aFudECfWhFqI6CpFDoXlDhtk-uj9UMEdBVTBSOTdMSEZQTFZGUlBTNzZIQlNONy4u&amp\;route=shorturl">Register here</a><br />\n<br />\nCome and enjoy a fun evening where kids can explore and parents can connect with others who understand the journey.<br />\n<br />\nSponsored by <a href="https://www.mainstreetfamilyservices.org/">Main Street Family Services</a></span></span>
LOCATION:Avery's Adventures 19138 Freeport Ave Elk River
UID:e.32.32702
SEQUENCE:3
DTSTAMP:20260421T160132Z
URL:http://mobile.elkriverchamber.org/events/details/sensory-friendly-playdate-at-avery-s-adventures-32702
END:VEVENT

END:VCALENDAR
