BEGIN:VCALENDAR
VERSION:2.0
PRODID:-//ChamberMaster//Event Calendar 2.0//EN
METHOD:PUBLISH
X-PUBLISHED-TTL:P3D
REFRESH-INTERVAL:P3D
CALSCALE:GREGORIAN
BEGIN:VEVENT
DTSTART:20260425T140000Z
DTEND:20260425T200000Z
X-MICROSOFT-CDO-ALLDAYEVENT:FALSE
SUMMARY:Ruff Start Rescue Wellness Clinic
DESCRIPTION:Ruff Start Rescue is hosting its Annual Wellness Clinic on Saturday\, April 25th\, from 9 am to 3 pm\, at the Zimmerman Civic Building. This is an opportunity for your dogs and cats to receive low-cost vaccinations\, heartworm testing (dogs only)\, and microchipping. You can find more information on our website: https://ruffstartrescue.org/event/ruff-start-rescue-wellness-clinic-3/
X-ALT-DESC;FMTTYPE=text/html:Ruff Start Rescue is hosting its Annual Wellness Clinic on Saturday\, April 25th\, from 9 am to 3 pm\, at the Zimmerman Civic Building. This is an opportunity for your dogs and cats to receive low-cost vaccinations\, heartworm testing (dogs only)\, and microchipping. You can find more information on our website: https://ruffstartrescue.org/event/ruff-start-rescue-wellness-clinic-3/
LOCATION:Zimmerman Civic Building
UID:e.32.33172
SEQUENCE:3
DTSTAMP:20260420T005039Z
URL:http://mobile.elkriverchamber.org/events/details/ruff-start-rescue-wellness-clinic-33172
END:VEVENT

END:VCALENDAR
