BEGIN:VCALENDAR
VERSION:2.0
PRODID:-//ChamberMaster//Event Calendar 2.0//EN
METHOD:PUBLISH
X-PUBLISHED-TTL:P3D
REFRESH-INTERVAL:P3D
CALSCALE:GREGORIAN
BEGIN:VEVENT
DTSTART:20251114T010000Z
DTEND:20251114T030000Z
X-MICROSOFT-CDO-ALLDAYEVENT:FALSE
SUMMARY:Rogers High School Presents MATILDA at the RHS PAC
DESCRIPTION:https://gofan.co/app/school/MN9805?activity=Performing%20Arts\nCome see this amazing production and all the hard work this cast and crew have put into it!\n\nGet Your Tickets Today!\n\nInspired by the twisted genius of Roald Dahl\, the Tony Award-winning Roald Dahl's Matilda The Musical is the captivating masterpiece from the Royal Shakespeare Company that revels in the anarchy of childhood\, the power of imagination and the inspiring story of a girl who dreams of a better life. With book by Dennis Kelly and original songs by Tim Minchin\, Matilda has won 47 international awards and continues to thrill sold-out audiences of all ages around the world.\n\nMatilda is a little girl with astonishing wit\, intelligence and psychokinetic powers. She's unloved by her cruel parents but impresses her school teacher Miss Honey. During her first term at school\, the two forge a bond as Miss Honey begins to recognize and appreciate Matilda's extraordinary personality. Matilda's school life isn't completely smooth sailing\, however   the school's mean headmistress\, Miss Trunchbull\, hates children and just loves to punish those who don't abide by her rules. But Matilda has courage and cleverness in equal amounts\, and could be the school pupils' saving grace!\n\nPacked with high-energy dance numbers\, catchy songs and an unforgettable star turn for a young actress\, Matilda is a joyous girl power romp. Children and adults alike will be thrilled and delighted by the story of the special little girl with an extraordinary imagination.
X-ALT-DESC;FMTTYPE=text/html:<a href="https://gofan.co/app/school/MN9805?activity=Performing%20Arts">https://gofan.co/app/school/MN9805?activity=Performing%20Arts</a>\n<p><strong>Come see this amazing production and all the hard work this cast and crew have put into it!</strong></p>\n\n<p>Get Your <a href="https://gofan.co/app/school/MN9805?activity=Performing%20Arts" style="background-image: unset\; background-position: unset\; background-size: unset\; background-repeat: unset\; background-attachment: initial\; background-origin: initial\; background-clip: initial\; background-color: initial\; cursor: pointer\; color: rgb(12\, 42\, 161)\; text-decoration-thickness: 1px\; white-space: initial\; text-underline-offset: 0.2em\; text-decoration-skip-ink: auto\; overflow-wrap: break-word\;" target="_blank">Tickets</a> Today!</p>\n\n<p>Inspired by the twisted genius of Roald Dahl\, the Tony Award-winning&nbsp\;<em>Roald Dahl&#39\;s Matilda The Musical</em>&nbsp\;is the captivating masterpiece from the Royal Shakespeare Company that revels in the anarchy of childhood\, the power of imagination and the inspiring story of a girl who dreams of a better life. With book by Dennis Kelly and original songs by Tim Minchin\,&nbsp\;<em>Matilda&nbsp\;</em>has won 47 international awards and continues to thrill sold-out audiences of all ages around the world.</p>\n\n<p>Matilda is a little girl with astonishing wit\, intelligence and psychokinetic powers. She&#39\;s unloved by her cruel parents but impresses her school teacher&nbsp\;Miss Honey. During her first term at school\, the two forge a bond as Miss Honey begins&nbsp\;to recognize and appreciate Matilda&#39\;s extraordinary personality. Matilda&#39\;s school life isn&#39\;t completely smooth sailing\, however &ndash\; the school&#39\;s mean headmistress\, Miss Trunchbull\, hates children and just loves to punish&nbsp\;those who don&#39\;t abide by her rules. But Matilda has courage and cleverness in equal amounts\, and could be the school pupils&#39\; saving grace!</p>\n\n<p>Packed with high-energy dance numbers\, catchy songs and an unforgettable star turn for a young actress\,&nbsp\;<em>Matilda</em><strong>&nbsp\;</strong>is a joyous girl power romp. Children and adults alike will be thrilled and delighted by the story of the special little girl with an extraordinary imagination.</p>\n
LOCATION:Rogers High School 21000 141st Ave N Rogers\, MN\, 55374
UID:e.32.32797
SEQUENCE:3
DTSTAMP:20260421T195059Z
URL:http://mobile.elkriverchamber.org/events/details/rogers-high-school-presents-matilda-at-the-rhs-pac-11-13-2025-32797
END:VEVENT

END:VCALENDAR
