BEGIN:VCALENDAR
VERSION:2.0
PRODID:-//ChamberMaster//Event Calendar 2.0//EN
METHOD:PUBLISH
X-PUBLISHED-TTL:P3D
REFRESH-INTERVAL:P3D
CALSCALE:GREGORIAN
BEGIN:VEVENT
DTSTART:20251002T000000Z
DTEND:20251002T030000Z
X-MICROSOFT-CDO-ALLDAYEVENT:FALSE
SUMMARY:Rockwood's Bonfire Wednesdays with Live Music!
DESCRIPTION:LAST BONFIRE WEDNESDAY OF THE SEASON\n\nWednesday October 1st\n\n\nFREE CONCERT! No tickets or cover charge.\n\n \n\n11:00am Rockwoods Opens\n\n5:00pm Burger Bar Opens (cash only) \n\n7:00pm Music\n\n----- HITCHVILLE-----\n\n10:00pm Music Ends\n\nDO NOT bring any food or drinks on to the property\, including the parking areas. Motorcycles must use designated parking area. Security provided by Wright County Sheriff's Office. Lawn chairs permitted ONLY in designated areas. \n\n\n05:00 PM - 10:00 PM
X-ALT-DESC;FMTTYPE=text/html:<h2 style="box-sizing: border-box\; font-family: &quot\;Averia Serif Libre&quot\;\, cursive\; font-weight: 400\; line-height: 1.1\; color: rgb(255\, 255\, 255)\; margin-top: 0px\; margin-bottom: 15px\; font-size: 2em\; text-transform: uppercase\; text-align: center\; background-color: rgb(0\, 0\, 0)\;">LAST BONFIRE WEDNESDAY OF THE SEASON</h2>\n\n<h3 style="box-sizing: border-box\; font-family: Roboto\, sans-serif\; font-weight: normal\; line-height: 1.1\; color: rgb(255\, 255\, 255)\; margin-top: 20px\; margin-bottom: 20px\; font-size: 1.3em\; text-align: center\; background-color: rgb(0\, 0\, 0)\;">Wednesday October 1st</h3>\n\n<div class="event-info-text" style="box-sizing: border-box\; color: rgb(255\, 255\, 255)\; font-family: Roboto\, sans-serif\; font-size: 14px\; text-align: center\; background-color: rgb(0\, 0\, 0)\;">\n<p style="box-sizing: border-box\; margin: 0px 0px 10px\; font-size: 1.3em\;">FREE CONCERT! No&nbsp\;tickets or cover charge.</p>\n\n<p style="box-sizing: border-box\; margin: 0px 0px 10px\; font-size: 1.3em\;">&nbsp\;</p>\n\n<p style="box-sizing: border-box\; margin: 0px 0px 10px\; font-size: 1.3em\;"><span style="box-sizing: border-box\; font-weight: 700\;">11:00am&nbsp\;Rockwoods Opens</span></p>\n\n<p style="box-sizing: border-box\; margin: 0px 0px 10px\; font-size: 1.3em\;"><span style="box-sizing: border-box\; font-weight: 700\;">5:00pm Burger Bar Opens&nbsp\;</span>(cash&nbsp\;only)<span style="box-sizing: border-box\; font-weight: 700\;">&nbsp\;</span></p>\n\n<p style="box-sizing: border-box\; margin: 0px 0px 10px\; font-size: 1.3em\;"><span style="box-sizing: border-box\; font-weight: 700\;">7:00pm Music</span></p>\n\n<p style="box-sizing: border-box\; margin: 0px 0px 10px\; font-size: 1.3em\;"><span style="box-sizing: border-box\; font-weight: 700\;"><a href="http://www.welcometohitchville.com/" style="box-sizing: border-box\; background-color: transparent\; color: rgb(255\, 255\, 255)\; text-decoration-line: none\; word-break: break-word\;" target=""><u style="box-sizing: border-box\;">-----&nbsp\;HITCHVILLE-----</u></a></span></p>\n\n<p style="box-sizing: border-box\; margin: 0px 0px 10px\; font-size: 1.3em\;"><span style="box-sizing: border-box\; font-weight: 700\;">10:00pm Music Ends</span></p>\n\n<p style="box-sizing: border-box\; margin: 0px 0px 10px\; font-size: 1.3em\;">DO NOT&nbsp\;bring any food or drinks on to the&nbsp\;property\, including the parking areas.&nbsp\;Motorcycles&nbsp\;must&nbsp\;use designated parking area. Security&nbsp\;provided by Wright County Sheriff&rsquo\;s Office.&nbsp\;Lawn&nbsp\;chairs permitted&nbsp\;ONLY&nbsp\;in designated areas.&nbsp\;</p>\n</div>\n\n<h3 class="event-time" style="box-sizing: border-box\; font-family: Roboto\, sans-serif\; font-weight: normal\; line-height: 1.1\; color: rgb(255\, 255\, 255)\; margin-top: 20px\; margin-bottom: 20px\; font-size: 1.3em\; text-align: center\; vertical-align: top\; padding: 0px\; background-color: rgb(0\, 0\, 0)\;">05:00 PM - 10:00 PM</h3>\n
LOCATION:Rockwoods Restaurant 9100 Quaday Ave NE Otsego
UID:e.32.32396
SEQUENCE:3
DTSTAMP:20260421T175745Z
URL:http://mobile.elkriverchamber.org/events/details/rockwood-s-bonfire-wednesdays-10-01-2025-32396
END:VEVENT

END:VCALENDAR
