BEGIN:VCALENDAR
VERSION:2.0
PRODID:-//ChamberMaster//Event Calendar 2.0//EN
METHOD:PUBLISH
X-PUBLISHED-TTL:P3D
REFRESH-INTERVAL:P3D
CALSCALE:GREGORIAN
BEGIN:VEVENT
DTSTART:20250612T000000Z
DTEND:20250612T030000Z
X-MICROSOFT-CDO-ALLDAYEVENT:FALSE
SUMMARY:Rockwood's Bonfire Wednesdays with Live Music!
DESCRIPTION:Live music every week!\n\nCheck out the website for the lineup.\n\n \n\nFREE CONCERT! No tickets or cover charge.\n\n \n\n11:00am Rockwoods Opens\n\n5:00pm Burger Bar Opens (cash only) \n\n7:00pm Music\n\nGood For Gary\n\n10:00pm Music Ends\n\nDO NOT bring any food or drinks on to the property\, including the parking areas. Motorcycles must use designated parking area. Security provided by Wright County Sheriff's Office. Lawn chairs permitted ONLY in designated areas. \n\n\n05:00 PM - 10:00 PM
X-ALT-DESC;FMTTYPE=text/html:<span style="font-size:16px\;"><span style="font-family:arial\;">Live music every week!<br />\nCheck out the website for the lineup.</span></span><br />\n&nbsp\;\n<div class="event-info-text" style="box-sizing: border-box\; color: rgb(255\, 255\, 255)\; font-family: Roboto\, sans-serif\; font-size: 14px\; text-align: center\; background-color: rgb(0\, 0\, 0)\;">\n<p style="box-sizing: border-box\; margin: 0px 0px 10px\; font-size: 1.3em\;">FREE CONCERT! No&nbsp\;tickets or cover charge.</p>\n\n<p style="box-sizing: border-box\; margin: 0px 0px 10px\; font-size: 1.3em\;">&nbsp\;</p>\n\n<p style="box-sizing: border-box\; margin: 0px 0px 10px\; font-size: 1.3em\;"><span style="box-sizing: border-box\; font-weight: 700\;">11:00am&nbsp\;Rockwoods Opens</span></p>\n\n<p style="box-sizing: border-box\; margin: 0px 0px 10px\; font-size: 1.3em\;"><span style="box-sizing: border-box\; font-weight: 700\;">5:00pm Burger Bar Opens&nbsp\;</span>(cash&nbsp\;only)<span style="box-sizing: border-box\; font-weight: 700\;">&nbsp\;</span></p>\n\n<p style="box-sizing: border-box\; margin: 0px 0px 10px\; font-size: 1.3em\;"><span style="box-sizing: border-box\; font-weight: 700\;">7:00pm Music</span></p>\n\n<p style="box-sizing: border-box\; margin: 0px 0px 10px\; font-size: 1.3em\;"><b><u>Good For Gary</u></b></p>\n\n<p style="box-sizing: border-box\; margin: 0px 0px 10px\; font-size: 1.3em\;"><span style="box-sizing: border-box\; font-weight: 700\;">10:00pm Music Ends</span></p>\n\n<p style="box-sizing: border-box\; margin: 0px 0px 10px\; font-size: 1.3em\;">DO NOT&nbsp\;bring any food or drinks on to the&nbsp\;property\, including the parking areas.&nbsp\;Motorcycles&nbsp\;must&nbsp\;use designated parking area. Security&nbsp\;provided by Wright County Sheriff&rsquo\;s Office.&nbsp\;Lawn&nbsp\;chairs permitted&nbsp\;ONLY&nbsp\;in designated areas.&nbsp\;</p>\n</div>\n\n<h3 class="event-time" style="box-sizing: border-box\; font-family: Roboto\, sans-serif\; font-weight: normal\; line-height: 1.1\; color: rgb(255\, 255\, 255)\; margin-top: 20px\; margin-bottom: 20px\; font-size: 1.3em\; text-align: center\; vertical-align: top\; padding: 0px\; background-color: rgb(0\, 0\, 0)\;">05:00 PM - 10:00 PM</h3>\n
LOCATION:Rockwoods Restaurant 9100 Quaday Ave NE Otsego
UID:e.32.32380
SEQUENCE:3
DTSTAMP:20260419T202051Z
URL:http://mobile.elkriverchamber.org/events/details/rockwood-s-bonfire-wednesdays-06-11-2025-32380
END:VEVENT

END:VCALENDAR
