BEGIN:VCALENDAR
VERSION:2.0
PRODID:-//ChamberMaster//Event Calendar 2.0//EN
METHOD:PUBLISH
X-PUBLISHED-TTL:P3D
REFRESH-INTERVAL:P3D
CALSCALE:GREGORIAN
BEGIN:VEVENT
DTSTART:20250927T150000Z
DTEND:20250927T230000Z
X-MICROSOFT-CDO-ALLDAYEVENT:FALSE
SUMMARY:Rivers of Hope's Tattoo for a Cause
DESCRIPTION:Join Rivers of Hope at Modify Tattoo in Becker for Tattoo for a Cause!\n\nArtists will be offering $80 and $120 designs and will be donating all proceeds (minus tips) to Rivers of Hope to help us continue offering our free advocacy services in the community. \n\nTattoos will be offered on a first come\, first served basis. \n\nWe hope to see you there!
X-ALT-DESC;FMTTYPE=text/html:Join Rivers of Hope at Modify Tattoo in Becker for Tattoo for a Cause!<br />\nArtists will be offering $80 and $120 designs and will be donating all proceeds (minus tips) to Rivers of Hope to help us continue offering our free advocacy services in the community.&nbsp\;<br />\nTattoos will be offered on a first come\, first served basis.&nbsp\;<br />\nWe hope to see you there!&nbsp\;
LOCATION:Modify Tattoo 14030 Bank St. # 3\, Becker\, MN
UID:e.32.32701
SEQUENCE:3
DTSTAMP:20260421T160459Z
URL:http://mobile.elkriverchamber.org/events/details/rivers-of-hope-s-tattoo-for-a-cause-32701
END:VEVENT

END:VCALENDAR
