BEGIN:VCALENDAR
VERSION:2.0
PRODID:-//ChamberMaster//Event Calendar 2.0//EN
METHOD:PUBLISH
X-PUBLISHED-TTL:P3D
REFRESH-INTERVAL:P3D
CALSCALE:GREGORIAN
BEGIN:VEVENT
DTSTART:20250808T000000Z
DTEND:20250808T020000Z
X-MICROSOFT-CDO-ALLDAYEVENT:FALSE
SUMMARY:Riverfront Concert Series
DESCRIPTION:A different band every week!\n\nThis weeks band is Memories of Elvis Show by Chris Olson - Elvis & Blues\n\nCheck out their website here
X-ALT-DESC;FMTTYPE=text/html:<br />\n<span style="font-size:16px\;"><span style="font-family:arial\;">A different band every week!<br />\nThis weeks band is&nbsp\;<span style="box-sizing: border-box\; font-weight: 700\; color: rgb(56\, 56\, 56)\; background-color: rgb(245\, 245\, 245)\;">Memories of Elvis Show by Chris Olson - Elvis &amp\; Blues<br />\n<a href="https://espking.com/">Check out their website here</a></span></span></span><br />\n&nbsp\;
LOCATION:Rivers Edge Commons Park Downtown Elk River
UID:e.32.32375
SEQUENCE:3
DTSTAMP:20260421T154055Z
URL:http://mobile.elkriverchamber.org/events/details/riverfront-concert-series-08-07-2025-32375
END:VEVENT

END:VCALENDAR
