BEGIN:VCALENDAR
VERSION:2.0
PRODID:-//ChamberMaster//Event Calendar 2.0//EN
METHOD:PUBLISH
X-PUBLISHED-TTL:P3D
REFRESH-INTERVAL:P3D
CALSCALE:GREGORIAN
BEGIN:VEVENT
DTSTART:20250627T000000Z
DTEND:20250627T020000Z
X-MICROSOFT-CDO-ALLDAYEVENT:FALSE
SUMMARY:Riverfront Concert Series
DESCRIPTION:***TONIGHTS CONCERT HAS BEEN MOVED INDOORS TO FURNITURE AND THINGS COMMUNITY EVENT CENTER DUE TO THE RAIN!\n\n	\n		\n			June 26\n			Hitchville\n			\n			Country\n\n			Learn more\n			\n		\n		\n			July 10\n			Legacy of the Loud\n			\n			80s Rock/Metal\n\n			Learn more\n			\n		\n		\n			July 17\n			ABBASolutely Fab\n			ABBA Hits\n			Learn more\n			\n		\n		\n			July 24\n			Gen X Jukebox\n			\n			90s Hits\n\n			Learn more\n			\n		\n		\n			July 31\n			Skitzo Fonik\n			Current and Timeless Pop and Rock\n			Learn more\n			\n		\n		\n			August 7\n			Memories of Elvis Show by Chris Olson\n			Elvis and Blues\n			Learn more\n			\n		\n		\n			August 14\n			Fabulous Armadillos\n			Classic Rock\n			Learn more
X-ALT-DESC;FMTTYPE=text/html:***TONIGHTS CONCERT HAS BEEN MOVED INDOORS TO FURNITURE AND THINGS COMMUNITY EVENT CENTER DUE TO THE RAIN!\n<table style="border-collapse: collapse\; border-spacing: 0px\; width: 1030px\; background-color: rgb(245\, 245\, 245)\; color: rgb(56\, 56\, 56)\; font-family: &quot\;Open Sans&quot\;\; font-size: 16px\;">\n	<tbody style="box-sizing: border-box\;">\n		<tr class="textContent" style="box-sizing: border-box\;">\n			<td data-th="Date - 7:00 p.m." headers="t72b02f9f-eb97-463d-a6a5-c56f9629738cc1" style="box-sizing: border-box\; padding: 0.35em\; vertical-align: top\; border: 1px solid rgb(51\, 51\, 51)\;">June 26</td>\n			<td data-th="Band" headers="t72b02f9f-eb97-463d-a6a5-c56f9629738cc2" style="box-sizing: border-box\; padding: 0.35em\; vertical-align: top\; border: 1px solid rgb(51\, 51\, 51)\;"><span style="box-sizing: border-box\; font-weight: 700\;">Hitchville</span></td>\n			<td data-th="Band Information" headers="t72b02f9f-eb97-463d-a6a5-c56f9629738cc3" style="box-sizing: border-box\; padding: 0.35em\; vertical-align: top\; border: 1px solid rgb(51\, 51\, 51)\;">\n			<div style="box-sizing: border-box\; position: relative\;">Country</div>\n\n			<div style="box-sizing: border-box\; position: relative\;"><a aria-describedby="audioeye_new_window_message" aria-label="Learn more Opens in new window" class="startContainer endContainer" href="http://www.welcometohitchville.com/" rel="noopener" style="box-sizing: border-box\; color: rgb(160\, 77\, 35)\;" target="_blank">Learn more</a></div>\n			</td>\n		</tr>\n		<tr class="alt textContent" style="box-sizing: border-box\;">\n			<td data-th="Date - 7:00 p.m." headers="t72b02f9f-eb97-463d-a6a5-c56f9629738cc1" style="box-sizing: border-box\; padding: 0.35em\; vertical-align: top\; border: 1px solid rgb(51\, 51\, 51)\; background-color: rgb(224\, 224\, 224)\;">July 10</td>\n			<td data-th="Band" headers="t72b02f9f-eb97-463d-a6a5-c56f9629738cc2" style="box-sizing: border-box\; padding: 0.35em\; vertical-align: top\; border: 1px solid rgb(51\, 51\, 51)\; background-color: rgb(224\, 224\, 224)\;"><strong style="box-sizing: border-box\; font-weight: bold !important\;">Legacy of the Loud</strong></td>\n			<td data-th="Band Information" headers="t72b02f9f-eb97-463d-a6a5-c56f9629738cc3" style="box-sizing: border-box\; padding: 0.35em\; vertical-align: top\; border: 1px solid rgb(51\, 51\, 51)\; background-color: rgb(224\, 224\, 224)\;">\n			<div style="box-sizing: border-box\; position: relative\;">80s Rock/Metal</div>\n\n			<div style="box-sizing: border-box\; position: relative\;"><a aria-describedby="audioeye_new_window_message" aria-label="Learn more Opens in new window" class="startContainer endContainer" href="https://www.legacyoftheloudrocks.com/#home-section" rel="noopener" style="box-sizing: border-box\; color: rgb(160\, 77\, 35)\;" target="_blank">Learn more</a></div>\n			</td>\n		</tr>\n		<tr class="textContent" style="box-sizing: border-box\;">\n			<td data-th="Date - 7:00 p.m." headers="t72b02f9f-eb97-463d-a6a5-c56f9629738cc1" style="box-sizing: border-box\; padding: 0.35em\; vertical-align: top\; border: 1px solid rgb(51\, 51\, 51)\;">July 17</td>\n			<td data-th="Band" headers="t72b02f9f-eb97-463d-a6a5-c56f9629738cc2" style="box-sizing: border-box\; padding: 0.35em\; vertical-align: top\; border: 1px solid rgb(51\, 51\, 51)\;"><strong style="box-sizing: border-box\; font-weight: bold !important\;">ABBASolutely Fab</strong></td>\n			<td data-th="Band Information" headers="t72b02f9f-eb97-463d-a6a5-c56f9629738cc3" style="box-sizing: border-box\; padding: 0.35em\; vertical-align: top\; border: 1px solid rgb(51\, 51\, 51)\;">ABBA Hits\n			<div class="startContainer endContainer" style="box-sizing: border-box\; position: relative\;"><a aria-describedby="audioeye_new_window_message" aria-label="Learn more Opens in new window" href="https://katyvernon.com/?page_id=996" rel="noopener" style="box-sizing: border-box\; color: rgb(160\, 77\, 35)\;" target="_blank">Learn more</a></div>\n			</td>\n		</tr>\n		<tr class="alt textContent" style="box-sizing: border-box\;">\n			<td data-th="Date - 7:00 p.m." headers="t72b02f9f-eb97-463d-a6a5-c56f9629738cc1" style="box-sizing: border-box\; padding: 0.35em\; vertical-align: top\; border: 1px solid rgb(51\, 51\, 51)\; background-color: rgb(224\, 224\, 224)\;">July 24</td>\n			<td data-th="Band" headers="t72b02f9f-eb97-463d-a6a5-c56f9629738cc2" style="box-sizing: border-box\; padding: 0.35em\; vertical-align: top\; border: 1px solid rgb(51\, 51\, 51)\; background-color: rgb(224\, 224\, 224)\;"><span style="box-sizing: border-box\; font-weight: 700\;">Gen X Jukebox</span></td>\n			<td data-th="Band Information" headers="t72b02f9f-eb97-463d-a6a5-c56f9629738cc3" style="box-sizing: border-box\; padding: 0.35em\; vertical-align: top\; border: 1px solid rgb(51\, 51\, 51)\; background-color: rgb(224\, 224\, 224)\;">\n			<div style="box-sizing: border-box\; position: relative\;">90s Hits</div>\n\n			<div style="box-sizing: border-box\; position: relative\;"><a aria-describedby="audioeye_new_window_message" aria-label="Learn more Opens in new window" class="startContainer endContainer" href="https://www.genxjukebox.com/" rel="noopener" style="box-sizing: border-box\; color: rgb(160\, 77\, 35)\;" target="_blank">Learn more</a></div>\n			</td>\n		</tr>\n		<tr class="textContent" style="box-sizing: border-box\;">\n			<td data-th="Date - 7:00 p.m." headers="t72b02f9f-eb97-463d-a6a5-c56f9629738cc1" style="box-sizing: border-box\; padding: 0.35em\; vertical-align: top\; border: 1px solid rgb(51\, 51\, 51)\;">July 31</td>\n			<td data-th="Band" headers="t72b02f9f-eb97-463d-a6a5-c56f9629738cc2" style="box-sizing: border-box\; padding: 0.35em\; vertical-align: top\; border: 1px solid rgb(51\, 51\, 51)\;"><strong style="box-sizing: border-box\; font-weight: bold !important\;">Skitzo Fonik</strong></td>\n			<td data-th="Band Information" headers="t72b02f9f-eb97-463d-a6a5-c56f9629738cc3" style="box-sizing: border-box\; padding: 0.35em\; vertical-align: top\; border: 1px solid rgb(51\, 51\, 51)\;">Current and Timeless Pop and Rock\n			<div class="startContainer endContainer" style="box-sizing: border-box\; position: relative\;"><a aria-describedby="audioeye_new_window_message" aria-label="Learn more Opens in new window" href="https://www.skitzofonik.com/" rel="noopener" style="box-sizing: border-box\; color: rgb(160\, 77\, 35)\;" target="_blank">Learn more</a></div>\n			</td>\n		</tr>\n		<tr class="alt textContent" style="box-sizing: border-box\;">\n			<td data-th="Date - 7:00 p.m." headers="t72b02f9f-eb97-463d-a6a5-c56f9629738cc1" style="box-sizing: border-box\; padding: 0.35em\; vertical-align: top\; border: 1px solid rgb(51\, 51\, 51)\; background-color: rgb(224\, 224\, 224)\;">August 7</td>\n			<td data-th="Band" headers="t72b02f9f-eb97-463d-a6a5-c56f9629738cc2" style="box-sizing: border-box\; padding: 0.35em\; vertical-align: top\; border: 1px solid rgb(51\, 51\, 51)\; background-color: rgb(224\, 224\, 224)\;"><span style="box-sizing: border-box\; font-weight: 700\;">Memories of Elvis Show by Chris Olson</span></td>\n			<td data-th="Band Information" headers="t72b02f9f-eb97-463d-a6a5-c56f9629738cc3" style="box-sizing: border-box\; padding: 0.35em\; vertical-align: top\; border: 1px solid rgb(51\, 51\, 51)\; background-color: rgb(224\, 224\, 224)\;">Elvis and Blues\n			<div class="startContainer endContainer" style="box-sizing: border-box\; position: relative\;"><a aria-describedby="audioeye_new_window_message" aria-label="Learn more Opens in new window" href="https://espking.com/" rel="noopener" style="box-sizing: border-box\; color: rgb(160\, 77\, 35)\;" target="_blank">Learn more</a></div>\n			</td>\n		</tr>\n		<tr class="textContent" style="box-sizing: border-box\;">\n			<td data-th="Date - 7:00 p.m." headers="t72b02f9f-eb97-463d-a6a5-c56f9629738cc1" style="box-sizing: border-box\; padding: 0.35em\; vertical-align: top\; border: 1px solid rgb(51\, 51\, 51)\;">August 14</td>\n			<td data-th="Band" headers="t72b02f9f-eb97-463d-a6a5-c56f9629738cc2" style="box-sizing: border-box\; padding: 0.35em\; vertical-align: top\; border: 1px solid rgb(51\, 51\, 51)\;"><span style="box-sizing: border-box\; font-weight: 700\;">Fabulous Armadillos</span></td>\n			<td data-th="Band Information" headers="t72b02f9f-eb97-463d-a6a5-c56f9629738cc3" style="box-sizing: border-box\; padding: 0.35em\; vertical-align: top\; border: 1px solid rgb(51\, 51\, 51)\;">Classic Rock\n			<div class="startContainer endContainer" style="box-sizing: border-box\; position: relative\;"><a aria-describedby="audioeye_new_window_message" aria-label="Learn more Opens in new window" href="https://www.fabulousarmadillos.com/" rel="noopener" style="box-sizing: border-box\; color: rgb(160\, 77\, 35)\;" target="_blank">Learn more</a></div>\n			</td>\n		</tr>\n	</tbody>\n</table>\n
LOCATION:Furniture and Things Community Event Center 1000 School St.\, Elk River
UID:e.32.32369
SEQUENCE:3
DTSTAMP:20260419T201308Z
URL:http://mobile.elkriverchamber.org/events/details/riverfront-concert-series-06-26-2025-32369
END:VEVENT

END:VCALENDAR
