BEGIN:VCALENDAR
VERSION:2.0
PRODID:-//ChamberMaster//Event Calendar 2.0//EN
METHOD:PUBLISH
X-PUBLISHED-TTL:P3D
REFRESH-INTERVAL:P3D
CALSCALE:GREGORIAN
BEGIN:VEVENT
DTSTART:20260513T124500Z
DTEND:20260513T140000Z
X-MICROSOFT-CDO-ALLDAYEVENT:FALSE
SUMMARY:RISE & SHINE: OSTEGO
DESCRIPTION:Rise & Shine: Otsego\n\nJOIN US FOR THE FIRST RISE & SHINE\n\nRise and shine\, Chamber crew your mornings just got an upgrade!\n\nIntroducing RISE & SHINE! The networking jolt you didn't know you needed. Think fresh coffee\, fresh connections\, and fresh insights all before your inbox starts bossing you around.\n\nThis first session serves up a city update\, a spotlight on our host business\, Rockwoods\, and a behind-the-scenes tour so you walk away informed\, inspired\, and just a little more plugged in than everyone else.\n\nThis isn't your sleepy morning meetup this is where conversations spark\, partnerships brew\, and ideas wake up ready to work. Come for the caffeine\, stay for the connections\, and leave with momentum you can actually use.\n\n  Why you'll want to be in the room:\n\n\n	Behind-the-scenes at Rockwoods\n\n	This isn't just networking you'll get a look inside one of the area's most well-known destinations\, including their impressive scratch kitchen (it's worth seeing).\n	Quick\, relevant city update\n\n	Hear directly from Adam Flaherty\, Otsego City Administrator on what's happening now and what's coming next.\n	Connections that actually stick\n\n	This is a business-focused crowd owners\, managers\, and team leaders who are here to meet\, share\, and build real relationships.\n\n\n\n  What to expect:\n\n\n	Fresh coffee + light morning vibe\n	Fast-paced introductions (so you meet everyone in the room)\n	A short host spotlight + optional tour\n	Plenty of time to connect before your workday ramps up\n\n\n\n  A quick note:\n\nThis is our first Rise & Shine\, and we're expecting a strong turnout.\n\n  Please register so we can plan for space and coffee.\n\n(Walk-ins welcome but registered guests get priority.)\n\n\n  Who should attend:\n\n\n	Business owners\n	Managers & team leaders\n	Anyone looking to get more connected in the Otsego business community\n\n\n(Open to members and future members bring a colleague if you'd like.)\n\n\n  Bottom line:\n\nIf you like starting your day with energy\, ideas\, and connections that actually go somewhere \n\nthis is your kind of morning.
X-ALT-DESC;FMTTYPE=text/html:<h2 data-end="336" data-section-id="dfl10v" data-start="296"><span role="text">&#9728\;&#65039\;&#10024\; <strong data-end="179" data-start="155">Rise &amp\; Shine: Otsego</strong></span></h2>\n\n<p data-end="289" data-start="181"><strong data-end="219" data-start="181">JOIN US FOR THE FIRST RISE &amp\; SHINE</strong></p>\n\n<p data-end="541" data-start="291">Rise and shine\, Chamber crew&mdash\;your mornings just got an upgrade!<br data-end="357" data-start="354" />\nIntroducing <strong data-end="386" data-start="369">RISE &amp\; SHINE!</strong> The networking jolt you didn&rsquo\;t know you needed. Think fresh coffee\, fresh connections\, and fresh insights&mdash\;all before your inbox starts bossing you around.</p>\n\n<p data-end="751" data-start="543">This first session serves up a city update\, a spotlight on our host business\, Rockwoods\, and a behind-the-scenes tour&mdash\;so you walk away informed\, inspired\, and just a little more plugged in than everyone else.</p>\n\n<p data-end="972" data-start="753">This isn&rsquo\;t your sleepy morning meetup&mdash\;this is where conversations spark\, partnerships brew\, and ideas wake up ready to work. Come for the caffeine\, stay for the connections\, and leave with momentum you can actually use.</p>\n\n<h2 data-end="336" data-section-id="dfl10v" data-start="296">&#128064\; Why you&rsquo\;ll want to be in the room:</h2>\n\n<ul data-end="865" data-start="338">\n	<li data-end="544" data-section-id="1iqvjh3" data-start="338"><strong data-end="374" data-start="340">Behind-the-scenes at Rockwoods</strong><br data-end="377" data-start="374" />\n	This isn&rsquo\;t just networking&mdash\;you&rsquo\;ll get a look inside one of the area&rsquo\;s most well-known destinations\, including their&nbsp\;<em data-end="523" data-start="495">impressive scratch kitchen</em>&nbsp\;(it&rsquo\;s worth seeing).</li>\n	<li data-end="695" data-section-id="tiw9t9" data-start="546"><strong data-end="579" data-start="548">Quick\, relevant city update</strong><br data-end="582" data-start="579" />\n	Hear directly from&nbsp\;<strong data-end="647" data-start="603">Adam Flaherty\, Otsego City Administrator</strong>&nbsp\;on what&rsquo\;s happening now and what&rsquo\;s coming next.</li>\n	<li data-end="865" data-section-id="sm55n4" data-start="697"><strong data-end="734" data-start="699">Connections that actually stick</strong><br data-end="737" data-start="734" />\n	This is a business-focused crowd&mdash\;owners\, managers\, and team leaders who are here to meet\, share\, and build real relationships.</li>\n</ul>\n\n<hr data-end="870" data-start="867" />\n<h2 data-end="892" data-section-id="omtl50" data-start="872">&#9749\; What to expect:</h2>\n\n<ul data-end="1097" data-start="894">\n	<li data-end="931" data-section-id="obdqnx" data-start="894">Fresh coffee + light morning vibe</li>\n	<li data-end="995" data-section-id="l85dp6" data-start="932">Fast-paced introductions (so you meet everyone in the room)</li>\n	<li data-end="1038" data-section-id="1ufmrxg" data-start="996">A short host spotlight + optional tour</li>\n	<li data-end="1097" data-section-id="10bmi92" data-start="1039">Plenty of time to connect before your workday ramps up</li>\n</ul>\n\n<hr data-end="1102" data-start="1099" />\n<h2 data-end="1122" data-section-id="pvtz4a" data-start="1104">&#9889\; A quick note:</h2>\n\n<p data-end="1197" data-start="1124">This is our&nbsp\;<strong data-end="1158" data-start="1136">first Rise &amp\; Shine</strong>\, and we&rsquo\;re expecting a strong turnout.</p>\n\n<p data-end="1315" data-start="1199">&#128073\;&nbsp\;<strong data-end="1258" data-start="1202">Please register so we can plan for space and coffee.</strong><br data-end="1261" data-start="1258" />\n(Walk-ins welcome&mdash\;but registered guests get priority.)</p>\n\n<hr data-end="1320" data-start="1317" />\n<h2 data-end="1346" data-section-id="1hd9u4w" data-start="1322">&#128101\; Who should attend:</h2>\n\n<ul data-end="1469" data-start="1348">\n	<li data-end="1367" data-section-id="wr2dcs" data-start="1348">Business owners</li>\n	<li data-end="1395" data-section-id="spc73v" data-start="1368">Managers &amp\; team leaders</li>\n	<li data-end="1469" data-section-id="m7rnxw" data-start="1396">Anyone looking to get more connected in the Otsego business community</li>\n</ul>\n\n<p data-end="1542" data-start="1471"><em data-end="1542" data-start="1471">(Open to members and future members&mdash\;bring a colleague if you&rsquo\;d like.)</em></p>\n\n<hr data-end="1547" data-start="1544" />\n<h2 data-end="1567" data-section-id="1ql0rr6" data-start="1549">&#128161\; Bottom line:</h2>\n\n<p data-end="1698" data-start="1569">If you like starting your day with energy\, ideas\, and connections that actually go somewhere&hellip\;<br data-end="1665" data-start="1662" />\n<strong data-end="1698" data-start="1665">this is your kind of morning.</strong></p>\n<br />\n&nbsp\;
LOCATION:Rockwoods
UID:e.32.33330
SEQUENCE:3
DTSTAMP:20260421T030128Z
URL:http://mobile.elkriverchamber.org/events/details/rise-shine-ostego-33330
END:VEVENT

END:VCALENDAR
