BEGIN:VCALENDAR
VERSION:2.0
PRODID:-//ChamberMaster//Event Calendar 2.0//EN
METHOD:PUBLISH
X-PUBLISHED-TTL:P3D
REFRESH-INTERVAL:P3D
CALSCALE:GREGORIAN
BEGIN:VEVENT
DTSTART:20251004T193000Z
DTEND:20251004T220000Z
X-MICROSOFT-CDO-ALLDAYEVENT:FALSE
SUMMARY:Rib Fest American Legion Post 112 Elk River
DESCRIPTION:All Minnesota Legions are invited to Register a Team or Individual of their choice to compete. Maximum of 15 Teams.\n\nDetails:\n\nEach team will cook 10 Racks of St Louis Style Ribs\n\nTeams will bring their own Grill\, Smoker\, Seasonings\, Tables\, Tents\, etc. Whatever they need to cook and represent their Post.\n\nCost is $150 to enter\, this covers the Ribs. Ribs will be provided by the Elk River Legion.\n\nTimes:\n\nSet Up will start at 7:00 AM\n\nRibs will be distributed once your team is ready\n\nCooking will commence from 8:00 AM to 3:00 PM\n\nTeams will turn in 5 Bones for Judging\n\nPublic Tasting will start at 3:30 PM\n\nWinners announced when the Judges are Finished\n\nPrizes:\n\n1st   $350 and Trophy\n\n2nd   $250 and Trophy\n\n3rd = $150 and Trophy\n\nContact Kae Legg with any questions at 612-558-6531.\n\nThis Event is being organized by Legion Social! Check them out online!
X-ALT-DESC;FMTTYPE=text/html:<p style="border: 0px\; font-family: &quot\;Average Sans&quot\;\, sans-serif\; font-size: 15px\; margin: 0px 0px 24px\; outline: 0px\; padding: 0px\; vertical-align: baseline\; color: rgb(40\, 40\, 40)\;"><span style="font-size: 16px\;"><span style="font-family: arial\;">All Minnesota Legions are invited to Register a Team or Individual of their choice to compete.&nbsp\;<em style="border: 0px\; font-family: inherit\; font-weight: inherit\; margin: 0px\; outline: 0px\; padding: 0px\; vertical-align: baseline\;">Maximum of 15 Teams</em>.</span></span></p>\n\n<p style="border: 0px\; font-family: &quot\;Average Sans&quot\;\, sans-serif\; font-size: 15px\; margin: 0px 0px 24px\; outline: 0px\; padding: 0px\; vertical-align: baseline\; color: rgb(40\, 40\, 40)\;"><span style="font-size: 16px\;"><span style="font-family: arial\;"><span style="border: 0px\; font-style: inherit\; font-weight: 700\; margin: 0px\; outline: 0px\; padding: 0px\; vertical-align: baseline\;">Details:</span><br />\nEach team will cook 10 Racks of St Louis Style Ribs<br />\nTeams will bring their own Grill\, Smoker\, Seasonings\, Tables\, Tents\, etc. Whatever they need to cook and represent their Post.</span></span></p>\n\n<p style="border: 0px\; font-family: &quot\;Average Sans&quot\;\, sans-serif\; font-size: 15px\; margin: 0px 0px 24px\; outline: 0px\; padding: 0px\; vertical-align: baseline\; color: rgb(40\, 40\, 40)\;"><span style="font-size: 16px\;"><span style="font-family: arial\;"><span style="border: 0px\; font-style: inherit\; font-weight: 700\; margin: 0px\; outline: 0px\; padding: 0px\; vertical-align: baseline\;">Cost</span>&nbsp\;is $150 to enter\, this covers the Ribs. Ribs will be provided by the Elk River Legion.</span></span></p>\n\n<p style="border: 0px\; font-family: &quot\;Average Sans&quot\;\, sans-serif\; font-size: 15px\; margin: 0px 0px 24px\; outline: 0px\; padding: 0px\; vertical-align: baseline\; color: rgb(40\, 40\, 40)\;"><span style="font-size: 16px\;"><span style="font-family: arial\;"><span style="border: 0px\; font-style: inherit\; font-weight: 700\; margin: 0px\; outline: 0px\; padding: 0px\; vertical-align: baseline\;">Times:</span><br />\nSet Up will start at 7:00 AM<br />\nRibs will be distributed once your team is ready<br />\nCooking will commence from 8:00 AM to 3:00 PM<br />\nTeams will turn in 5 Bones for Judging</span></span></p>\n\n<p style="border: 0px\; font-family: &quot\;Average Sans&quot\;\, sans-serif\; font-size: 15px\; margin: 0px 0px 24px\; outline: 0px\; padding: 0px\; vertical-align: baseline\; color: rgb(40\, 40\, 40)\;"><span style="font-size: 16px\;"><span style="font-family: arial\;">Public Tasting will start at 3:30 PM<br />\nWinners announced when the Judges are Finished</span></span></p>\n\n<p style="border: 0px\; font-family: &quot\;Average Sans&quot\;\, sans-serif\; font-size: 15px\; margin: 0px 0px 24px\; outline: 0px\; padding: 0px\; vertical-align: baseline\; color: rgb(40\, 40\, 40)\;"><span style="font-size: 16px\;"><span style="font-family: arial\;"><span style="border: 0px\; font-style: inherit\; font-weight: 700\; margin: 0px\; outline: 0px\; padding: 0px\; vertical-align: baseline\;">Prizes:</span><br />\n1st &ndash\; $350 and Trophy<br />\n2nd &ndash\; $250 and Trophy<br />\n3rd = $150 and Trophy</span></span></p>\n\n<p style="border: 0px\; font-family: &quot\;Average Sans&quot\;\, sans-serif\; font-size: 15px\; margin: 0px 0px 24px\; outline: 0px\; padding: 0px\; vertical-align: baseline\; color: rgb(40\, 40\, 40)\;"><span style="font-size: 16px\;"><span style="font-family: arial\;"><span style="border: 0px\; font-style: inherit\; font-weight: 700\; margin: 0px\; outline: 0px\; padding: 0px\; vertical-align: baseline\;">Contact</span>&nbsp\;Kae Legg with any questions at 612-558-6531.</span></span></p>\n\n<p style="border: 0px\; font-family: &quot\;Average Sans&quot\;\, sans-serif\; font-size: 15px\; margin: 0px 0px 24px\; outline: 0px\; padding: 0px\; vertical-align: baseline\; color: rgb(40\, 40\, 40)\;"><span style="font-size: 16px\;"><span style="font-family: arial\;">This Event is being organized by Legion Social! Check them out&nbsp\;<a href="https://www.legion-social.com/" style="color: rgb(160\, 107\, 4)\; border: 0px\; font-family: inherit\; font-style: inherit\; font-weight: inherit\; margin: 0px\; outline: 0px\; padding: 0px\; vertical-align: baseline\;">online</a>!</span></span></p>\n
LOCATION:American Legion Post 112 525 Railroad Drive Elk River\, MN 55330
UID:e.32.32703
SEQUENCE:3
DTSTAMP:20260421T175551Z
URL:http://mobile.elkriverchamber.org/events/details/rib-fest-american-legion-post-112-elk-river-32703
END:VEVENT

END:VCALENDAR
