BEGIN:VCALENDAR
VERSION:2.0
PRODID:-//ChamberMaster//Event Calendar 2.0//EN
METHOD:PUBLISH
X-PUBLISHED-TTL:P3D
REFRESH-INTERVAL:P3D
CALSCALE:GREGORIAN
BEGIN:VEVENT
DTSTART;VALUE=DATE:20250808
DTEND;VALUE=DATE:20250810
TRANSP:TRANSPARENT
X-MICROSOFT-CDO-ALLDAYEVENT:TRUE
SUMMARY:Pulled Pork Cook-Off
DESCRIPTION:Join us on at Lupulin Brewing for the 2025 Smokin' Pulled Pork Cookoff! Bring your best recipe\, or your appetite\, as pit masters will compete for the best pulled pork! A portion of the proceeds will benefit Big Eagle Lake.\n\n									 \n\n									Interested in competing?\n\n									Cash prizes will be awarded for 1st\, 2nd\, and 3rd places\, along with a People's Choice Award. Smoker space is limited to only ten entries. Register by July 31st to reserve your space! Click the button below for rules and to register!\n\n									\n\n									Just want to eat?\n\n									Public Sampling will run from 12:45 to 3:30 PM\, and food tickets are only $3 per 2-oz sample. The fun doesn't stop there\, we'll have live music\, a silent auction\, a wine wall\, raffles\, and more!\n\n									\n\n									Schedule:\n\n									\n\n									Friday\, August 8th\n\n									7:00 PM - Setup\n\n									8:00 PM - Cooks Meeting\n\n									\n\n									Saturday\, August 9th\n\n									12:30 PM - Judging turn-in\n\n									12:45-3:30 PM - Public Sampling\n\n									3:45 PM - Awards Presented\n\n									\n\n									Questions?\n\n									Contact Lori Andreen: bigeaglelakeboard@gmail.com & 612-802-1550. \n\n									 \n								\n							\n						\n						\n					\n				\n			\n			\n		\n	\n\n \n\n\n	\n		\n			\n			\n				\n					\n						Cook-off Rules and Registration
X-ALT-DESC;FMTTYPE=text/html:<table border="0" cellpadding="0" cellspacing="0" style="color:rgb(34\, 34\, 34)\;font-family:Arial\, Helvetica\, sans-serif\;font-size:small\;width:600px\;border-collapse:collapse\;min-width:100%\;" width="100%">\n	<tbody>\n		<tr>\n			<td style="padding:6.75pt 0in 0in\;vertical-align:top\;">\n			<table align="left" border="0" cellpadding="0" cellspacing="0" style="width:600px\;border-collapse:collapse\;" width="100%">\n				<tbody>\n					<tr>\n						<td style="width:600px\;padding:0in\;vertical-align:top\;">\n						<table align="left" border="0" cellpadding="0" cellspacing="0" style="width:600px\;border-collapse:collapse\;" width="100%">\n							<tbody>\n								<tr>\n									<td style="padding:0in 13.5pt 6.75pt\;max-width:100%\;min-width:100%\;float:left\;vertical-align:top\;"><span style="font-family:helvetica\,sans-serif\;"><span style="font-size:10.5pt\;">Join us on&nbsp\;at Lupulin Brewing for the&nbsp\;<strong>2025 Smokin&rsquo\; Pulled Pork Cookoff!</strong>&nbsp\;Bring your best recipe\, or your appetite\, as pit masters will compete for the best pulled pork! A portion of the proceeds will benefit Big Eagle Lake.<br />\n									&nbsp\;<br />\n									<strong>Interested in competing?</strong><br />\n									<strong>Cash prizes</strong>&nbsp\;will be awarded for 1st\, 2nd\, and 3rd places\, along with a People&rsquo\;s Choice Award. Smoker space is limited to only ten entries.<strong> Register by&nbsp\;July 31st&nbsp\;to reserve your space!</strong> Click the button below for rules and to register!<br />\n									<br />\n									<strong>Just want to eat?</strong><br />\n									<strong>Public Sampling</strong>&nbsp\;will run from 12:45 to 3:30 PM\, and food tickets are only $3 per 2-oz sample. The fun doesn&rsquo\;t stop there\, we&rsquo\;ll have live music\, a silent auction\, a wine wall\, raffles\, and more!<br />\n									<br />\n									<strong>Schedule:</strong><br />\n									<br />\n									<strong>Friday\, August 8th</strong><br />\n									7:00 PM - Setup<br />\n									8:00 PM - Cooks Meeting<br />\n									<br />\n									<strong>Saturday\, August 9th</strong><br />\n									12:30 PM - Judging turn-in<br />\n									12:45-3:30 PM - Public Sampling<br />\n									3:45 PM - Awards Presented<br />\n									<br />\n									<strong>Questions?</strong><br />\n									Contact Lori Andreen:&nbsp\;<a href="mailto:bigeaglelakeboard@gmail.com" style="color:rgb(17\, 85\, 204)\;" target="_blank">bigeaglelakeboard@gmail.com</a>&nbsp\;&amp\; 612-802-1550.&nbsp\;</span></span><br />\n									&nbsp\;</td>\n								</tr>\n							</tbody>\n						</table>\n						</td>\n					</tr>\n				</tbody>\n			</table>\n			</td>\n		</tr>\n	</tbody>\n</table>\n&nbsp\;\n\n<table border="0" cellpadding="0" cellspacing="0" style="color:rgb(34\, 34\, 34)\;font-family:Arial\, Helvetica\, sans-serif\;font-size:small\;width:600px\;border-collapse:collapse\;min-width:100%\;" width="100%">\n	<tbody>\n		<tr>\n			<td style="padding:0in 13.5pt 13.5pt\;vertical-align:top\;">\n			<table align="center" border="1" cellpadding="0" cellspacing="0" style="background:rgb(0\, 255\, 123)\;border-collapse:collapse\;border:none\;">\n				<tbody>\n					<tr>\n						<td style="border:1.5pt solid windowtext\;padding:13.5pt\;border-radius:14px\;"><span style="font-family:arial\,sans-serif\;"><a data-saferedirecturl="https://www.google.com/url?q=https://lupulinbrewing.us8.list-manage.com/track/click?u%3Dbee622aafc8ec22419fd0f93b%26id%3D2115583594%26e%3D61dc632f32&amp\;source=gmail&amp\;ust=1752348160986000&amp\;usg=AOvVaw04j7U7boY_E9ERpLfornhG" href="https://lupulinbrewing.us8.list-manage.com/track/click?u=bee622aafc8ec22419fd0f93b&amp\;id=2115583594&amp\;e=61dc632f32" style="color:rgb(17\, 85\, 204)\;" target="_blank" title="Cook-off Rules and Registration"><strong><span style="text-decoration-line:none\;"><span style="color:#0b0b0b\;">Cook-off Rules and Registration</span></span></strong></a></span></td>\n					</tr>\n				</tbody>\n			</table>\n\n			<div style="clear:both\;">&nbsp\;</div>\n			</td>\n		</tr>\n	</tbody>\n</table>\n
LOCATION:Lupulin Brewing 570 Humboldt Drive Suite 107 Big Lake
UID:e.32.32640
SEQUENCE:3
DTSTAMP:20260421T154842Z
URL:http://mobile.elkriverchamber.org/events/details/pulled-pork-cook-off-32640
END:VEVENT

END:VCALENDAR
