BEGIN:VCALENDAR
VERSION:2.0
PRODID:-//ChamberMaster//Event Calendar 2.0//EN
METHOD:PUBLISH
X-PUBLISHED-TTL:P3D
REFRESH-INTERVAL:P3D
CALSCALE:GREGORIAN
BEGIN:VEVENT
DTSTART:20251106T143000Z
DTEND:20251106T160000Z
X-MICROSOFT-CDO-ALLDAYEVENT:FALSE
SUMMARY:PREPARING FOR PFML COMPLIANCE: A PRACTICAL EMPLOYER WORKSHOP
DESCRIPTION:Minnesota's Paid Family & Medical Leave (PFML) program begins January 1\, 2026.\n\n\n\nWhile that seems a long way away\, there are layers of complexity that make implementation a little more than simply defaulting into the state plan and telling employees about it.\n\n\n\nThis workshop is built for busy leaders who need straight answers on what to do and when before year end. And how to run a business with the program after launch.\n\nWe will clarify the latest ins and outs of the program requirements and then move on to practical setup steps. We'll focus on leave policy rationalization\, employee and manager communications\, and ongoing administration and compliance. We'll also cover business continuity planning\, because even when the labor market favors businesses\, keeping the lights on will be a challenge as Minnesotans take full advantage of their rights under the law.\n\n\n\nThis program will be rich with practical guidance and tools you can put to use right now. We'll help you make sense of the vast amount of information and resources being made available to employers and point you to the ones that matter most right now. You'll leave with a working checklist and a copy of the slides for those who register.\n\n\n\nSteve Schad is the founder of Optima HR Solutions\, a Minnesota based HR outsourcing and advisory firm. He leads PFML readiness and implementation for the firm\, which serves clients across the state\, aligning payroll\, benefits\, and leave administration with daily operations. Steve has delivered multiple presentations to chambers\, CPA firms\, and executive groups\, and provides practical guidance in boardrooms and online. He brings hands on operational experience and clear\, plain spoken guidance tailored to small and midsized employers. Optima HR Solutions provides fractional HR leadership and outsourced HR operations.
X-ALT-DESC;FMTTYPE=text/html:<span style="font-size:16px\;"><span style="font-family:arial\;">Minnesota&rsquo\;s Paid Family &amp\; Medical Leave (PFML) program begins January 1\, 2026.<br />\n<br />\nWhile that seems a long way away\, there are layers of complexity that make implementation a little more than simply defaulting into the state plan and telling employees about it.<br />\n<br />\nThis workshop is built for busy leaders who need straight answers on what to do and when before year&#8209\;end. And how to run a business with the program after launch.<br />\nWe will clarify the latest ins and outs of the program requirements and then move on to practical setup steps. We&rsquo\;ll focus on leave policy rationalization\, employee and manager communications\, and ongoing administration and compliance. We&rsquo\;ll also cover business continuity planning\, because even when the labor market favors businesses\, keeping the lights on will be a challenge as Minnesotans take full advantage of their rights under the law.<br />\n<br />\nThis program will be rich with practical guidance and tools you can put to use right now. We&rsquo\;ll help you make sense of the vast amount of information and resources being made available to employers and point you to the ones that matter most right now. You&rsquo\;ll leave with a working checklist and a copy of the slides for those who register.<br />\n<br />\nSteve Schad is the founder of Optima HR Solutions\, a Minnesota&#8209\;based HR outsourcing and advisory firm. He leads PFML readiness and implementation for the firm\, which serves clients across the state\, aligning payroll\, benefits\, and leave administration with daily operations. Steve has delivered multiple presentations to chambers\, CPA firms\, and executive groups\, and provides practical guidance in boardrooms and online. He brings hands&#8209\;on operational experience and clear\, plain&#8209\;spoken guidance tailored to small and midsized employers. <a href="https://optimahr.co/">Optima HR Solutions</a> provides fractional HR leadership and outsourced HR operations.</span></span>
LOCATION:Sherburne County Government Center 13880 Business Ctr Dr NW | Maple Room Elk River
UID:e.32.32748
SEQUENCE:3
DTSTAMP:20260421T194458Z
URL:http://mobile.elkriverchamber.org/events/details/preparing-for-pfml-compliance-a-practical-employer-workshop-32748
END:VEVENT

END:VCALENDAR
