BEGIN:VCALENDAR
VERSION:2.0
PRODID:-//ChamberMaster//Event Calendar 2.0//EN
METHOD:PUBLISH
X-PUBLISHED-TTL:P3D
REFRESH-INTERVAL:P3D
CALSCALE:GREGORIAN
BEGIN:VEVENT
DTSTART;VALUE=DATE:20250912
DTEND;VALUE=DATE:20250913
TRANSP:TRANSPARENT
X-MICROSOFT-CDO-ALLDAYEVENT:TRUE
SUMMARY:Pickle Paradise Ribbon Cutting and Grand Opening
DESCRIPTION:10:00-10:30                         Ribbon Cutting with The Elk River Area                                                      Chamber of Commerce\n\n10:30-11:00am                 Courts available- play with the coaches!\n\n11:00-12:00pm                 Open Play for 65+\n\n12:10-12:30pm                 Intro to Pickleball- with coaches- max of 10 ppl\n\n12:30-3:30pm                  Power Within Chiropractic- Dr Callie Harp- Warm up/Cool down tips\, and free Kinotek movement screenings\n\n1:00-1:20pm                     Short Game Clinic- with coaches- max of 16 ppl\n\n2:00-2:30pm                     Skill Challenge- with coaches- max of 10 ppl\n\n	Dinking\n	Serving\n	Returning\n	Volleying \n\n3:00-4:00pm                     Open Play (all levels)\n\n4:10-4:30pm                     Serving Clinic- with head coach\n\n5:00-5:20pm                     Intro for Jr's: age 10-14 \n\n6:00-6:20pm                     Intro for Jr's: age 15-19\n\n6:30- Close                        Open play\n\nSaturday\, September 13\n\n9:00-10:00am                   Open Play (levels by court)\n\n10:00-10:20am                 Intro to Pickleball age 55+\n\n11:00-11:30am                Strategy & Movement clinic- lead by head coach\n\n12:00-1:00pm                  Open Play (levels by court)\n\n12:00-2:00pm                  Power Within Chiropractic- Warm up/Cool down tips\, and free Kinotek movement screenings\n\n1:00-1:30pm                     All College Students!- wear your college shirt\n\n2:30-4:30pm                     Main Event in the Championship Court\n\n2:30-3:00pm:   Warm-up & Drilling practices\n\n3:00-4:00pm:   Main Match (2 games)\n\n4:00-4:30pm:   Round Robin games \n\n4:30-5:00pm                     Skills/Drills Challenge\n\n5:00-5:20pm                     2-handed backhand clinic\n\n6:00-6:30pm                     Stacking or Open Play\n\n------------------------------------------------------------------------------------------------------------------\n\n** Giveaways scattered throughout the special events! **\n\n** Play in The Palm Perch! **\n\n** Food Trucks! **\n\n                Friday: The Smashed Cow\n\n                Saturday: Tacos Los 4 Carnales\n\n                Sunday: Swede's Smokin Grill\n\n** CourtReserve and membership assistance **
X-ALT-DESC;FMTTYPE=text/html:<span style="font-size:11.0pt\;">10:00-10:30&nbsp\;</span>&nbsp\;&nbsp\;&nbsp\;&nbsp\;&nbsp\;&nbsp\;&nbsp\;&nbsp\;&nbsp\;&nbsp\;&nbsp\;&nbsp\;&nbsp\;&nbsp\;&nbsp\;&nbsp\;&nbsp\;&nbsp\;&nbsp\;&nbsp\;&nbsp\;&nbsp\;&nbsp\;&nbsp\;Ribbon Cutting with The Elk River Area&nbsp\; &nbsp\; &nbsp\; &nbsp\; &nbsp\;&nbsp\;&nbsp\;&nbsp\;&nbsp\;&nbsp\;&nbsp\;&nbsp\;&nbsp\;&nbsp\;&nbsp\;&nbsp\;&nbsp\;&nbsp\;&nbsp\;&nbsp\;&nbsp\;&nbsp\;&nbsp\;&nbsp\;&nbsp\;&nbsp\;&nbsp\;&nbsp\;&nbsp\;&nbsp\;&nbsp\;&nbsp\;&nbsp\;&nbsp\;&nbsp\;&nbsp\;&nbsp\;&nbsp\;&nbsp\;&nbsp\;&nbsp\;&nbsp\;&nbsp\;&nbsp\;&nbsp\;&nbsp\;&nbsp\;&nbsp\;&nbsp\;&nbsp\;Chamber of Commerce<br />\n<span style="font-size:11.0pt\;">10:30-11:00am &nbsp\;&nbsp\;&nbsp\;&nbsp\;&nbsp\;&nbsp\;&nbsp\;&nbsp\;&nbsp\;&nbsp\;&nbsp\;&nbsp\;&nbsp\;&nbsp\;&nbsp\; Courts available- play with the coaches!</span><br />\n<span style="font-size:11.0pt\;">11:00-12:00pm &nbsp\;&nbsp\;&nbsp\;&nbsp\;&nbsp\;&nbsp\;&nbsp\;&nbsp\;&nbsp\;&nbsp\;&nbsp\;&nbsp\;&nbsp\;&nbsp\;&nbsp\; Open Play for 65+</span><br />\n<span style="font-size:11.0pt\;">12:10-12:30pm &nbsp\;&nbsp\;&nbsp\;&nbsp\;&nbsp\;&nbsp\;&nbsp\;&nbsp\;&nbsp\;&nbsp\;&nbsp\;&nbsp\;&nbsp\;&nbsp\;&nbsp\; Intro to Pickleball- <em>with coaches-</em> <em>max of 10 ppl</em></span><br />\n<span style="font-size:11.0pt\;">12:30-3:30pm&nbsp\;&nbsp\;&nbsp\;&nbsp\;&nbsp\;&nbsp\;&nbsp\;&nbsp\;&nbsp\;&nbsp\;&nbsp\;&nbsp\;&nbsp\;&nbsp\;&nbsp\;&nbsp\;&nbsp\; <strong>Power Within Chiropractic</strong>- <em>Dr Callie Harp</em>- Warm up/Cool down tips\, and free Kinotek movement screenings</span><br />\n<span style="font-size:11.0pt\;">1:00-1:20pm&nbsp\;&nbsp\;&nbsp\;&nbsp\;&nbsp\;&nbsp\;&nbsp\;&nbsp\;&nbsp\;&nbsp\;&nbsp\;&nbsp\;&nbsp\;&nbsp\;&nbsp\;&nbsp\;&nbsp\;&nbsp\;&nbsp\;&nbsp\; Short Game Clinic- <em>with coaches-</em> <em>max of 16 ppl</em></span><br />\n<span style="font-size:11.0pt\;">2:00-2:30pm&nbsp\;&nbsp\;&nbsp\;&nbsp\;&nbsp\;&nbsp\;&nbsp\;&nbsp\;&nbsp\;&nbsp\;&nbsp\;&nbsp\;&nbsp\;&nbsp\;&nbsp\;&nbsp\;&nbsp\;&nbsp\;&nbsp\;&nbsp\; Skill Challenge- <em>with coaches-</em> <em>max of 10 ppl</em></span>\n<ul>\n	<li><span style="font-size:11.0pt\;">Dinking</span></li>\n	<li><span style="font-size:11.0pt\;">Serving</span></li>\n	<li><span style="font-size:11.0pt\;">Returning</span></li>\n	<li><span style="font-size:11.0pt\;">Volleying&nbsp\;</span></li>\n</ul>\n<span style="font-size:11.0pt\;">3:00-4:00pm&nbsp\;&nbsp\;&nbsp\;&nbsp\;&nbsp\;&nbsp\;&nbsp\;&nbsp\;&nbsp\;&nbsp\;&nbsp\;&nbsp\;&nbsp\;&nbsp\;&nbsp\;&nbsp\;&nbsp\;&nbsp\;&nbsp\;&nbsp\; Open Play <em>(all levels)</em></span><br />\n<span style="font-size:11.0pt\;">4:10-4:30pm&nbsp\;&nbsp\;&nbsp\;&nbsp\;&nbsp\;&nbsp\;&nbsp\;&nbsp\;&nbsp\;&nbsp\;&nbsp\;&nbsp\;&nbsp\;&nbsp\;&nbsp\;&nbsp\;&nbsp\;&nbsp\;&nbsp\;&nbsp\; Serving Clinic- <em>with head coach</em></span><br />\n<span style="font-size:11.0pt\;">5:00-5:20pm&nbsp\;&nbsp\;&nbsp\;&nbsp\;&nbsp\;&nbsp\;&nbsp\;&nbsp\;&nbsp\;&nbsp\;&nbsp\;&nbsp\;&nbsp\;&nbsp\;&nbsp\;&nbsp\;&nbsp\;&nbsp\;&nbsp\;&nbsp\; Intro for Jr&rsquo\;s: <em>age 10-14</em> </span><br />\n<span style="font-size:11.0pt\;">6:00-6:20pm&nbsp\;&nbsp\;&nbsp\;&nbsp\;&nbsp\;&nbsp\;&nbsp\;&nbsp\;&nbsp\;&nbsp\;&nbsp\;&nbsp\;&nbsp\;&nbsp\;&nbsp\;&nbsp\;&nbsp\;&nbsp\;&nbsp\;&nbsp\; Intro for Jr&rsquo\;s: <em>age 15-19</em></span><br />\n<span style="font-size:11.0pt\;">6:30- Close&nbsp\;&nbsp\;&nbsp\;&nbsp\;&nbsp\;&nbsp\;&nbsp\;&nbsp\;&nbsp\;&nbsp\;&nbsp\;&nbsp\;&nbsp\;&nbsp\;&nbsp\;&nbsp\;&nbsp\;&nbsp\;&nbsp\;&nbsp\;&nbsp\;&nbsp\;&nbsp\; Open play</span><br />\n<strong><u><span style="font-size:14.0pt\;">Saturday\, September 13</span></u></strong><br />\n<span style="font-size:11.0pt\;">9:00-10:00am &nbsp\; &nbsp\;&nbsp\;&nbsp\;&nbsp\;&nbsp\;&nbsp\;&nbsp\;&nbsp\;&nbsp\;&nbsp\;&nbsp\;&nbsp\;&nbsp\;&nbsp\;&nbsp\; Open Play <em>(levels by court)</em></span><br />\n<span style="font-size:11.0pt\;">10:00-10:20am &nbsp\;&nbsp\;&nbsp\;&nbsp\;&nbsp\;&nbsp\;&nbsp\;&nbsp\;&nbsp\;&nbsp\;&nbsp\;&nbsp\;&nbsp\;&nbsp\;&nbsp\; Intro to Pickleball age 55+</span><br />\n<span style="font-size:11.0pt\;">11:00-11:30am &nbsp\;&nbsp\;&nbsp\;&nbsp\;&nbsp\;&nbsp\;&nbsp\;&nbsp\;&nbsp\;&nbsp\;&nbsp\;&nbsp\;&nbsp\;&nbsp\; Strategy &amp\; Movement clinic- <em>lead by head coach</em></span><br />\n<span style="font-size:11.0pt\;">12:00-1:00pm&nbsp\;&nbsp\;&nbsp\;&nbsp\;&nbsp\;&nbsp\;&nbsp\;&nbsp\;&nbsp\;&nbsp\;&nbsp\;&nbsp\;&nbsp\;&nbsp\;&nbsp\;&nbsp\;&nbsp\; Open Play <em>(levels by court)</em></span><br />\n<span style="font-size:11.0pt\;">12:00-2:00pm&nbsp\;&nbsp\;&nbsp\;&nbsp\;&nbsp\;&nbsp\;&nbsp\;&nbsp\;&nbsp\;&nbsp\;&nbsp\;&nbsp\;&nbsp\;&nbsp\;&nbsp\;&nbsp\;&nbsp\; <strong>Power Within Chiropractic</strong>- Warm up/Cool down tips\, and free Kinotek movement screenings</span><br />\n<span style="font-size:11.0pt\;">1:00-1:30pm&nbsp\;&nbsp\;&nbsp\;&nbsp\;&nbsp\;&nbsp\;&nbsp\;&nbsp\;&nbsp\;&nbsp\;&nbsp\;&nbsp\;&nbsp\;&nbsp\;&nbsp\;&nbsp\;&nbsp\;&nbsp\;&nbsp\;&nbsp\; All College Students!- <em>wear your college shirt</em></span><br />\n<span style="font-size:11.0pt\;">2:30-4:30pm &nbsp\;&nbsp\;&nbsp\; &nbsp\;&nbsp\;&nbsp\;&nbsp\;&nbsp\;&nbsp\;&nbsp\;&nbsp\;&nbsp\;&nbsp\;&nbsp\;&nbsp\;&nbsp\;&nbsp\;&nbsp\; <strong>Main Event in the Championship Court</strong></span><br />\n<span style="font-size:11.0pt\;">2:30-3:00pm:&nbsp\;&nbsp\; Warm-up &amp\; Drilling practices</span><br />\n<span style="font-size:11.0pt\;">3:00-4:00pm:&nbsp\;&nbsp\; Main Match <em>(2 games)</em></span><br />\n<span style="font-size:11.0pt\;">4:00-4:30pm:&nbsp\;&nbsp\; Round Robin games </span><br />\n<span style="font-size:11.0pt\;">4:30-5:00pm&nbsp\;&nbsp\;&nbsp\;&nbsp\; &nbsp\;&nbsp\;&nbsp\;&nbsp\;&nbsp\;&nbsp\;&nbsp\;&nbsp\;&nbsp\;&nbsp\;&nbsp\;&nbsp\;&nbsp\;&nbsp\;&nbsp\; Skills/Drills Challenge</span><br />\n<span style="font-size:11.0pt\;">5:00-5:20pm&nbsp\;&nbsp\;&nbsp\;&nbsp\; &nbsp\;&nbsp\;&nbsp\;&nbsp\;&nbsp\;&nbsp\;&nbsp\;&nbsp\;&nbsp\;&nbsp\;&nbsp\;&nbsp\;&nbsp\;&nbsp\;&nbsp\; 2-handed backhand clinic</span><br />\n<span style="font-size:11.0pt\;">6:00-6:30pm&nbsp\;&nbsp\;&nbsp\;&nbsp\; &nbsp\;&nbsp\;&nbsp\;&nbsp\;&nbsp\;&nbsp\;&nbsp\;&nbsp\;&nbsp\;&nbsp\;&nbsp\;&nbsp\;&nbsp\;&nbsp\;&nbsp\; Stacking or Open Play</span><br />\n<strong>------------------------------------------------------------------------------------------------------------------</strong><br />\n<strong>** Giveaways scattered throughout the special events! **</strong><br />\n<strong>** Play in The Palm Perch! **</strong><br />\n<strong>** Food Trucks! **</strong><br />\n&nbsp\;&nbsp\;&nbsp\;&nbsp\;&nbsp\;&nbsp\;&nbsp\;&nbsp\;&nbsp\;&nbsp\;&nbsp\;&nbsp\;&nbsp\;&nbsp\;&nbsp\; Friday: The Smashed Cow<br />\n&nbsp\;&nbsp\;&nbsp\;&nbsp\;&nbsp\;&nbsp\;&nbsp\;&nbsp\;&nbsp\;&nbsp\;&nbsp\;&nbsp\;&nbsp\;&nbsp\;&nbsp\; Saturday: Tacos Los 4 Carnales<br />\n&nbsp\;&nbsp\;&nbsp\;&nbsp\;&nbsp\;&nbsp\;&nbsp\;&nbsp\;&nbsp\;&nbsp\;&nbsp\;&nbsp\;&nbsp\;&nbsp\;&nbsp\; Sunday: Swede&rsquo\;s Smokin Grill<br />\n<strong>** CourtReserve and membership assistance **</strong>
LOCATION:590 Freeport Ave. NW\, Elk River\, MN (the old movie theater bldg.)
UID:e.32.32707
SEQUENCE:3
DTSTAMP:20260421T160438Z
URL:http://mobile.elkriverchamber.org/events/details/pickle-paradise-ribbon-cutting-and-grand-opening-32707
END:VEVENT

END:VCALENDAR
