BEGIN:VCALENDAR
VERSION:2.0
PRODID:-//ChamberMaster//Event Calendar 2.0//EN
METHOD:PUBLISH
X-PUBLISHED-TTL:P3D
REFRESH-INTERVAL:P3D
CALSCALE:GREGORIAN
BEGIN:VEVENT
DTSTART:20251119T213000Z
DTEND:20251119T233000Z
X-MICROSOFT-CDO-ALLDAYEVENT:FALSE
SUMMARY:PICKLE & MINGLE: LEADERSHIP ALUMNI AT PICKLE PARADISE
DESCRIPTION:Pickle & Mingle: Leadership Alumni at Pickle Paradise\n\nJoin your fellow Leadership Alumni for an afternoon of connection\, learning\, and fun at Pickle Paradise! We'll kick things off with a tour of this new member's business and a chance to chat with the owners about their journey. Then\, get hands-on and try your skills on the pickleball court with guidance from a professional coach\, whether you're a seasoned player or a first-timer\, it's all about having fun and recharging with your peers. Enjoy light appetizers while networking with other Leadership Alumni\, and maybe even discover a new favorite activity along the way. Don't miss this unique blend of business insight\, active play\, and social connection\, it's the perfect way to mix learning\, leadership\, and leisure!\n\n\n\n*If you plan to give Pickle Ball a try\, please dress comfortable with tennis shoes (or Pickle Ball shoes)
X-ALT-DESC;FMTTYPE=text/html:<h3 data-end="198" data-start="129"><strong data-end="196" data-start="133">Pickle &amp\; Mingle: Leadership Alumni at Pickle Paradise</strong></h3>\n\n<p data-end="929" data-start="200">Join your fellow Leadership Alumni for an afternoon of connection\, learning\, and fun at <strong data-end="307" data-start="288">Pickle Paradise</strong>! We&rsquo\;ll kick things off with a tour of this new member&rsquo\;s business and a chance to chat with the owners about their journey. Then\, get hands-on and try your skills on the pickleball court with guidance from a professional coach\, whether you&rsquo\;re a seasoned player or a first-timer\, it&rsquo\;s all about having fun and recharging with your peers. Enjoy light appetizers while networking with other Leadership Alumni\, and maybe even discover a new favorite activity along the way. Don&rsquo\;t miss this unique blend of business insight\, active play\, and social connection\, it&rsquo\;s the perfect way to mix learning\, leadership\, and leisure!<br />\n<br />\n*If you plan to give Pickle Ball a try\, please dress comfortable with tennis shoes (or Pickle Ball shoes)</p>\n
LOCATION:Pickle Paradise 590 Freeport Ave NW Elk River Pickle Paradise - Now Open! | Play Year-Round - Join Today
UID:e.32.32753
SEQUENCE:3
DTSTAMP:20260421T194735Z
URL:http://mobile.elkriverchamber.org/events/details/pickle-mingle-leadership-alumni-at-pickle-paradise-32753
END:VEVENT

END:VCALENDAR
