BEGIN:VCALENDAR
VERSION:2.0
PRODID:-//ChamberMaster//Event Calendar 2.0//EN
METHOD:PUBLISH
X-PUBLISHED-TTL:P3D
REFRESH-INTERVAL:P3D
CALSCALE:GREGORIAN
BEGIN:VEVENT
DTSTART;VALUE=DATE:20250909
DTEND;VALUE=DATE:20250910
TRANSP:TRANSPARENT
X-MICROSOFT-CDO-ALLDAYEVENT:TRUE
SUMMARY:NO OTSEGO BUSINESS ALLIANCE
DESCRIPTION:Otsego Business Alliance will be rescheduled.  \n\nPlease watch the newsletter for the new date!
X-ALT-DESC;FMTTYPE=text/html:<font color="#222222" face="arial"><span style="font-size: 16px\;">Otsego Business Alliance will be rescheduled.&nbsp\;&nbsp\;<br />\nPlease watch the newsletter for the new date!</span></font>
LOCATION:
UID:e.32.32218
SEQUENCE:3
DTSTAMP:20260421T160341Z
URL:http://mobile.elkriverchamber.org/events/details/no-otsego-business-alliance-32218
END:VEVENT

END:VCALENDAR
