BEGIN:VCALENDAR
VERSION:2.0
PRODID:-//ChamberMaster//Event Calendar 2.0//EN
METHOD:PUBLISH
X-PUBLISHED-TTL:P3D
REFRESH-INTERVAL:P3D
CALSCALE:GREGORIAN
BEGIN:VEVENT
DTSTART:20250803T171500Z
DTEND:20250803T191500Z
X-MICROSOFT-CDO-ALLDAYEVENT:FALSE
SUMMARY:Next Gen 500 Cycle Celebration
DESCRIPTION:You're invited to the NextGen Cycle Celebration!\n\n\n\nJoin us on Sunday\, August 3rd from 12:15 2:15PM as we welcome back the incredible NextGen500 riders! This event is more than just a celebration it's a fundraiser in support of Expand the House\, and you're not going to want to miss it. Bring your friends and family for an afternoon full of food\, live music\, local vendors\, and exciting activities for all ages. A highlight of the day is the NextGen5\, a fun 5-lap bike ride just for kids\, raising funds for River of Life's Kids Expansion. It's a great way for young riders to get involved and make a difference! Spread the word\, bring your crew\, and let's ride for a cause!
X-ALT-DESC;FMTTYPE=text/html:<span style="font-size:16px\;"><span style="font-family:arial\;"><span style="color: rgb(24\, 24\, 24)\; background-color: rgb(255\, 255\, 255)\;">You&#39\;re invited to the NextGen Cycle Celebration!<br />\n<br />\nJoin us on Sunday\, August 3rd from 12:15&ndash\;2:15PM as we welcome back the incredible NextGen500 riders! This event is more than just a celebration&mdash\;it&rsquo\;s a fundraiser in support of Expand the House\, and you&rsquo\;re not going to want to miss it. Bring your friends and family for an afternoon full of food\, live music\, local vendors\, and exciting activities for all ages. A highlight of the day is the NextGen5\, a fun 5-lap bike ride just for kids\, raising funds for River of Life&rsquo\;s Kids Expansion. It&rsquo\;s a great way for young riders to get involved and make a difference! Spread the word\, bring your crew\, and let&rsquo\;s ride for a cause!</span></span></span>
LOCATION:River of Life Church 21695 Elk Lake Road Elk River
UID:e.32.32668
SEQUENCE:3
DTSTAMP:20260421T155852Z
URL:http://mobile.elkriverchamber.org/events/details/next-gen-500-cycle-celebration-32668
END:VEVENT

END:VCALENDAR
