BEGIN:VCALENDAR
VERSION:2.0
PRODID:-//ChamberMaster//Event Calendar 2.0//EN
METHOD:PUBLISH
X-PUBLISHED-TTL:P3D
REFRESH-INTERVAL:P3D
CALSCALE:GREGORIAN
BEGIN:VEVENT
DTSTART:20250731T220000Z
DTEND:20250801T010000Z
X-MICROSOFT-CDO-ALLDAYEVENT:FALSE
SUMMARY:MN Wild Block Party
DESCRIPTION:Elk River Block Party\nThe Minnesota Wild Block Party Series is a celebration of hockey and will feature interactive games and music for fans of all ages to enjoy\, including an inflatable street hockey rink\, an inflatable shooting activation with electronic hockey net\, a video game station featuring EA Sports NHL 25 and yard games. In addition\, Minnesota Wild mascot\, Nordy\, will be at all locations.\n\n* Please note that all fans 17 years and younger must be accompanied by a legal parent or guardian in order to complete the participation waiver!
X-ALT-DESC;FMTTYPE=text/html:<span class="eps-heading-3 block mb-xs leading-160" style="font-family: Inter\, &quot\;Helvetica Neue&quot\;\, Helvetica\, Arial\, sans-serif\; margin-bottom: 8px\; line-height: 1.6\; font-weight: 600\; margin-top: 0px\; display: block\; background-color: rgb(255\, 255\, 255)\;"><span style="font-size:18px\;"><span style="font-family:arial\;"><span style="color:#000000\;">Elk River Block Party</span></span></span></span>\n<div class="event-description-html" style="font-family: Inter\, &quot\;Helvetica Neue&quot\;\, Helvetica\, Arial\, sans-serif\; color: rgb(110\, 111\, 115)\; font-size: 16px\; background-color: rgb(255\, 255\, 255)\;"><span style="font-size:16px\;"><span style="font-family:arial\;"><span style="color:#000000\;">The Minnesota Wild Block Party Series is a celebration of hockey and will feature interactive games and music for fans of all ages to enjoy\, including an inflatable street hockey rink\, an inflatable shooting activation with electronic hockey net\, a video game station featuring EA Sports NHL 25 and yard games. In addition\, Minnesota Wild mascot\, Nordy\, will be at all locations.<br />\n* Please note that all fans 17 years and younger must be accompanied by a legal parent or guardian in order to complete the participation waiver!</span></span></span>\n<p style="margin: 0px\; line-height: 1.6\; word-break: break-word\;">&nbsp\;</p>\n</div>\n
LOCATION:Elk River Cub Foods 19216 Freeport Ave Elk River
UID:e.32.32667
SEQUENCE:3
DTSTAMP:20260421T141308Z
URL:http://mobile.elkriverchamber.org/events/details/mn-wild-block-party-32667
END:VEVENT

END:VCALENDAR
