BEGIN:VCALENDAR
VERSION:2.0
PRODID:-//ChamberMaster//Event Calendar 2.0//EN
METHOD:PUBLISH
X-PUBLISHED-TTL:P3D
REFRESH-INTERVAL:P3D
CALSCALE:GREGORIAN
BEGIN:VEVENT
DTSTART;VALUE=DATE:20260213
DTEND;VALUE=DATE:20260214
TRANSP:TRANSPARENT
X-MICROSOFT-CDO-ALLDAYEVENT:TRUE
SUMMARY:Mary Mack & Tim Harmston Valentine's Weekend Comedy Show
DESCRIPTION:Kick off Valentine's weekend with a night of sharp\, quirky\, unforgettable stand-up from real-life married comedy duo Mary Mack & Tim Harmston. Their onstage chemistry\, quick wit\, and hilarious relationship storytelling make this the perfect date night (or friends night!) for anyone who loves smart comedy with personality.\n\n \n\nEARLY SHOW : Doors 5:45 PM | Show 6:30 PM\n\nLATE SHOW : Doors 8:30 PM | Show 9:30 PM\n\n \n\nGo to www.rockwoodsmn.com under the events & live music tab for tickets & to learn more!\n\n \n\nThis is just one of the many comedy shows we host at Rockwoods. Head to our website and check out the Events & Live Music tab to see what else is coming up!
X-ALT-DESC;FMTTYPE=text/html:<div>Kick off Valentine&rsquo\;s weekend with a night of sharp\, quirky\, unforgettable stand-up from real-life married comedy duo Mary Mack &amp\; Tim Harmston. Their onstage chemistry\, quick wit\, and hilarious relationship storytelling make this the perfect date night (or friends night!) for anyone who loves smart comedy with personality.<br />\n&nbsp\;</div>\n\n<div><strong>EARLY SHOW : </strong>Doors 5:45 PM | Show 6:30 PM<br />\n<strong>LATE SHOW :</strong> Doors 8:30 PM | Show 9:30 PM<br />\n&nbsp\;</div>\n\n<div>Go to www.rockwoodsmn.com under the events &amp\; live music tab for tickets &amp\; to learn more!<br />\n&nbsp\;</div>\n\n<div>This is just one of the many comedy shows we host at Rockwoods. Head to our website and check out the Events &amp\; Live Music tab to see what else is coming up!&nbsp\;</div>\n
LOCATION:
UID:e.32.33062
SEQUENCE:3
DTSTAMP:20260422T025449Z
URL:http://mobile.elkriverchamber.org/events/details/mary-mack-tim-harmston-valentine-s-weekend-comedy-show-33062
END:VEVENT

END:VCALENDAR
