BEGIN:VCALENDAR
VERSION:2.0
PRODID:-//ChamberMaster//Event Calendar 2.0//EN
METHOD:PUBLISH
X-PUBLISHED-TTL:P3D
REFRESH-INTERVAL:P3D
CALSCALE:GREGORIAN
BEGIN:VEVENT
DTSTART:20081021T154500Z
DTEND:20081021T181500Z
X-MICROSOFT-CDO-ALLDAYEVENT:FALSE
SUMMARY:MANUFACTURER'S RECOGNITION LUNCHEON
DESCRIPTION:Please join us on Tuesday\, October 21 to celebrate and recognize the impact of manufacturing in the Elk River area. Our luncheon speaker is Jim Mecklenburg\, Project Lead The Way Program Director for the Minnesota Center For Engineering and Manufacturing Center For Excellence.Prior to the Chamber membership luncheon\, Classic Acrylics will host a tour of their manufacturing facility located at 11040 Industrial Circle in Elk River Industrial Park just south of Home Depot.The tour will begin at 10:45 a.m. with lunch to follow at Holiday Inn Otsego. Call 441-3110 to reserve your spot for the tour and/or lunch. There is no charge for the tour and lunch is $18 per person.
X-ALT-DESC;FMTTYPE=text/html:<p><font size="2">Please join us on Tuesday\, October 21 to celebrate and recognize the impact of manufacturing in the Elk River area. Our luncheon speaker is Jim Mecklenburg\, Project Lead The Way Program Director for the Minnesota Center For Engineering and Manufacturing Center For Excellence.</font></p><p><font size="2">Prior to the Chamber membership luncheon\, Classic Acrylics will host a tour of their manufacturing facility located at 11040 Industrial Circle in Elk River Industrial Park just south of Home Depot.</font></p><p><font size="2">The tour will begin at 10:45 a.m. with lunch to follow at Holiday Inn Otsego. Call 441-3110 to reserve your spot for the tour and/or lunch. There is no charge for the tour and lunch is $18 per person.</font></p>
LOCATION:Tour: Classic Acrylics\, 11040 Industrial CircleLunch: Holiday Inn Otsego
UID:e.32.1695
SEQUENCE:3
DTSTAMP:20260421T093015Z
URL:http://mobile.elkriverchamber.org/events/details/manufacturer-s-recognition-luncheon-10-21-2008-1695
END:VEVENT

END:VCALENDAR
