BEGIN:VCALENDAR
VERSION:2.0
PRODID:-//ChamberMaster//Event Calendar 2.0//EN
METHOD:PUBLISH
X-PUBLISHED-TTL:P3D
REFRESH-INTERVAL:P3D
CALSCALE:GREGORIAN
BEGIN:VEVENT
DTSTART;VALUE=DATE:20260227
DTEND;VALUE=DATE:20260228
TRANSP:TRANSPARENT
X-MICROSOFT-CDO-ALLDAYEVENT:TRUE
SUMMARY:Lucas Bohn - Lesson Plans to Late Night Comedy Show
DESCRIPTION:Get ready for a fast-paced\, high-energy night of stand-up with Lucas Bohn\, the former elementary school teacher turned nationally touring comedian behind the viral show Lessons to Late Night. Lucas brings the kind of sharp\, relatable storytelling that hits every audience   especially anyone who has ever taught\, learned\, or simply survived a classroom.\n\n \n\nEARLY SHOW : Doors 5:45 PM | Show 6:30 PM\n\nLATE SHOW : Doors 8:30 PM | Show 9:30 PM\n\n \n\nGo to www.rockwoodsmn.com under the events & live music tab to buy tickets & learn more!\n\n\n\nThis is just one of the many comedy shows we host at Rockwoods. Head to our website and check out the Events & Live Music tab to see what else is coming up!
X-ALT-DESC;FMTTYPE=text/html:<div>Get ready for a fast-paced\, high-energy night of stand-up with Lucas Bohn\, the former elementary school teacher turned nationally touring comedian behind the viral show Lessons to Late Night. Lucas brings the kind of sharp\, relatable storytelling that hits every audience &mdash\; especially anyone who has ever taught\, learned\, or simply survived a classroom.<br />\n&nbsp\;</div>\n\n<div><strong>EARLY SHOW : </strong>Doors 5:45 PM | Show 6:30 PM<br />\n<strong>LATE SHOW : </strong>Doors 8:30 PM | Show 9:30 PM<br />\n&nbsp\;</div>\n\n<div>Go to www.rockwoodsmn.com under the events &amp\; live music tab to buy tickets &amp\; learn more!<br />\n<br />\nThis is just one of the many comedy shows we host at Rockwoods. Head to our website and check out the Events &amp\; Live Music tab to see what else is coming up!</div>\n
LOCATION:
UID:e.32.33063
SEQUENCE:3
DTSTAMP:20260422T025438Z
URL:http://mobile.elkriverchamber.org/events/details/lucas-bohn-lesson-plans-to-late-night-comedy-show-33063
END:VEVENT

END:VCALENDAR
