BEGIN:VCALENDAR
VERSION:2.0
PRODID:-//ChamberMaster//Event Calendar 2.0//EN
METHOD:PUBLISH
X-PUBLISHED-TTL:P3D
REFRESH-INTERVAL:P3D
CALSCALE:GREGORIAN
BEGIN:VEVENT
DTSTART:20260107T000000Z
DTEND:20260107T020000Z
X-MICROSOFT-CDO-ALLDAYEVENT:FALSE
SUMMARY:Live Music with Bryce Hegge
DESCRIPTION:Join us as Bryce Hegge returns to the Aegir Brewing taproom for a Tuesday set from 6-8PM
X-ALT-DESC;FMTTYPE=text/html:<span style="font-size:16px\;"><span style="font-family:arial\;"><span style="color: rgb(8\, 8\, 9)\; background-color: rgb(255\, 255\, 255)\;">Join us as Bryce Hegge returns to the Aegir Brewing taproom for a Tuesday set from 6-8PM</span></span></span>
LOCATION:Aegir Brewing 19050 Industrial Blvd Elk River
UID:e.32.33055
SEQUENCE:3
DTSTAMP:20260422T005554Z
URL:http://mobile.elkriverchamber.org/events/details/live-music-with-bryce-hegge-33055
END:VEVENT

END:VCALENDAR
