BEGIN:VCALENDAR
VERSION:2.0
PRODID:-//ChamberMaster//Event Calendar 2.0//EN
METHOD:PUBLISH
X-PUBLISHED-TTL:P3D
REFRESH-INTERVAL:P3D
CALSCALE:GREGORIAN
BEGIN:VEVENT
DTSTART:20250729T223000Z
DTEND:20250730T013000Z
X-MICROSOFT-CDO-ALLDAYEVENT:FALSE
SUMMARY:LIve Music @ Aegir Brewing
DESCRIPTION:Live music on the patio each week (moved inside if the weather doesn't cooperate).\n\nThis week is music by Drew Peterson
X-ALT-DESC;FMTTYPE=text/html:<span style="color: rgb(8\, 8\, 9)\; font-family: &quot\;Segoe UI Historic&quot\;\, &quot\;Segoe UI&quot\;\, Helvetica\, Arial\, sans-serif\; font-size: 15px\; background-color: rgb(255\, 255\, 255)\;"><span style="font-size:16px\;"><span style="font-family:arial\;">Live music on the patio each week (moved inside if the weather doesn&#39\;t cooperate).<br />\nThis week is music by Drew Peterson</span></span></span>
LOCATION:19050 Industrial Blvd. Elk River
UID:e.32.32661
SEQUENCE:3
DTSTAMP:20260421T124420Z
URL:http://mobile.elkriverchamber.org/events/details/live-music-aegir-brewing-07-29-2025-32661
END:VEVENT

END:VCALENDAR
