BEGIN:VCALENDAR
VERSION:2.0
PRODID:-//ChamberMaster//Event Calendar 2.0//EN
METHOD:PUBLISH
X-PUBLISHED-TTL:P3D
REFRESH-INTERVAL:P3D
CALSCALE:GREGORIAN
BEGIN:VEVENT
DTSTART:20250726T180000Z
DTEND:20250726T210000Z
X-MICROSOFT-CDO-ALLDAYEVENT:FALSE
SUMMARY:Live Car Show
DESCRIPTION:Live car show!\n\nCome for the cars\, food\, music\, and giveaways!\n\n \nIt's Summer Time so lets Rock and ROLL!\n\nShow off your Hot Rod\, TRUCK\, Classic\, Rat Rod\, Import or the motorcycle equivalent! If you think its COOL bring it!\n\nEnjoy hot dogs\, brats and Root BEER all FREE!\n\nMusic and door prizes from 1pm - 4pm! \n\nContact Chris Stavos (320.250.7832) with any questions about bringing your RIDE!
X-ALT-DESC;FMTTYPE=text/html:<span style="font-size:16px\;">Live car show!<br />\nCome for the cars\, food\, music\, and giveaways!</span><br />\n&nbsp\;\n<p style="margin-top: 0px\; overflow-wrap: break-word\; font-family: Roboto\; font-size: 16px\; letter-spacing: 0.32px\; white-space-collapse: preserve\; background-color: rgb(255\, 255\, 255)\;"><span style="font-size:16px\;">It&#39\;s <strong style="font-weight: bold\; overflow-wrap: break-word\;">Summer Time</strong> so lets <strong style="font-weight: bold\; overflow-wrap: break-word\;">Rock</strong> and <strong style="font-weight: bold\; overflow-wrap: break-word\;">ROLL</strong>!<br style="overflow-wrap: break-word\;" />\n<strong style="font-weight: bold\; overflow-wrap: break-word\;">Show</strong> off <strong style="font-weight: bold\; overflow-wrap: break-word\;">your</strong> Hot Rod\, TRUCK\, Classic\, Rat Rod\, Import or the motorcycle equivalent! <strong style="font-weight: bold\; overflow-wrap: break-word\;">If you think its COOL bring it!</strong><br style="overflow-wrap: break-word\;" />\nEnjoy hot dogs\, brats and Root BEER all <strong style="font-weight: bold\; overflow-wrap: break-word\;">FREE</strong>!<br style="overflow-wrap: break-word\;" />\n<strong style="font-weight: bold\; overflow-wrap: break-word\;">Music</strong> and door <strong style="font-weight: bold\; overflow-wrap: break-word\;">prizes</strong> from <strong style="font-weight: bold\; overflow-wrap: break-word\;">1pm - 4pm</strong>!&nbsp\;</span></p>\n\n<p style="margin-bottom: 0px\; overflow-wrap: break-word\; font-family: Roboto\; font-size: 16px\; letter-spacing: 0.32px\; white-space-collapse: preserve\; background-color: rgb(255\, 255\, 255)\;"><span style="font-size:16px\;"><strong style="font-weight: bold\; overflow-wrap: break-word\;">Contact Chris Stavos</strong> (320.250.7832) with any questions about <strong style="font-weight: bold\; overflow-wrap: break-word\;">bringing your RIDE</strong>!</span></p>\n
LOCATION:Zimmerman Community Church 12567 5th Avenue N Zimmerman
UID:e.32.32666
SEQUENCE:3
DTSTAMP:20260421T124212Z
URL:http://mobile.elkriverchamber.org/events/details/live-car-show-32666
END:VEVENT

END:VCALENDAR
