BEGIN:VCALENDAR
VERSION:2.0
PRODID:-//ChamberMaster//Event Calendar 2.0//EN
METHOD:PUBLISH
X-PUBLISHED-TTL:P3D
REFRESH-INTERVAL:P3D
CALSCALE:GREGORIAN
BEGIN:VEVENT
DTSTART:20250726T000000Z
DTEND:20250726T030000Z
X-MICROSOFT-CDO-ALLDAYEVENT:FALSE
SUMMARY:Live at Lupulin
DESCRIPTION:Come check out some great live music in our taproom!  With a variety of genres on the schedule\, we've got something for everyone.\n \n\nPlaying today\, July 25th\, 7-10 PM - Tyler Herwig
X-ALT-DESC;FMTTYPE=text/html:<span style="font-size:16px\;"><span style="font-family:arial\;"><span style="text-align: center\; background-color: rgb(255\, 255\, 255)\; line-height: 21px\;">Come check out some great live music in our taproom! &nbsp\;With a variety of genres on the schedule\, we&#39\;ve got something for everyone.</span></span></span>\n<div>&nbsp\;</div>\n\n<div><span style="font-size:16px\;"><span style="font-family:arial\;"><span style="text-align: center\; background-color: rgb(255\, 255\, 255)\; line-height: 21px\;">Playing today\,&nbsp\;</span><span style="text-align: center\; background-color: rgb(255\, 255\, 255)\;">July&nbsp\;25th\, 7-10 PM -&nbsp\;</span><a data-saferedirecturl="https://www.google.com/url?q=https://lupulinbrewing.us8.list-manage.com/track/click?u%3Dbee622aafc8ec22419fd0f93b%26id%3Dd2a1e47369%26e%3D61dc632f32&amp\;source=gmail&amp\;ust=1752348160987000&amp\;usg=AOvVaw0KzT_XZ1KhTEBtbYFm03AY" href="https://lupulinbrewing.us8.list-manage.com/track/click?u=bee622aafc8ec22419fd0f93b&amp\;id=d2a1e47369&amp\;e=61dc632f32" style="color: rgb(17\, 85\, 204)\; font-family: Helvetica\, sans-serif\; font-size: 14px\; text-align: center\; background-color: rgb(255\, 255\, 255)\;" target="_blank"><strong><span style="color: rgb(0\, 124\, 137)\;">Tyler Herwig</span></strong></a></span></span></div>\n
LOCATION:Lupulin Brewing 570 Humboldt Drive Suite 107 Big Lake
UID:e.32.32643
SEQUENCE:3
DTSTAMP:20260421T123905Z
URL:http://mobile.elkriverchamber.org/events/details/live-at-lupulin-32643
END:VEVENT

END:VCALENDAR
