BEGIN:VCALENDAR
VERSION:2.0
PRODID:-//ChamberMaster//Event Calendar 2.0//EN
METHOD:PUBLISH
X-PUBLISHED-TTL:P3D
REFRESH-INTERVAL:P3D
CALSCALE:GREGORIAN
BEGIN:VEVENT
DTSTART:20250719T000000Z
DTEND:20250719T020000Z
X-MICROSOFT-CDO-ALLDAYEVENT:FALSE
SUMMARY:Live at Lupulin
DESCRIPTION:Come check out some great live music in our taproom!  With a variety of genres on the schedule\, we've got something for everyone.\n \n\nPlaying today\, July 18th\, 7-9 PM - Axel & Betty
X-ALT-DESC;FMTTYPE=text/html:<span style="font-size:16px\;"><span style="font-family:arial\;"><span style="text-align: center\; background-color: rgb(255\, 255\, 255)\; line-height: 21px\;">Come check out some great live music in our taproom! &nbsp\;With a variety of genres on the schedule\, we&#39\;ve got something for everyone.</span></span></span>\n<div>&nbsp\;</div>\n\n<div><span style="font-size:16px\;"><span style="font-family:arial\;"><span style="text-align: center\; background-color: rgb(255\, 255\, 255)\; line-height: 21px\;">Playing today\,&nbsp\;</span><span style="text-align: center\; background-color: rgb(255\, 255\, 255)\;">July&nbsp\;18th\, 7-9 PM -&nbsp\;</span><a data-saferedirecturl="https://www.google.com/url?q=https://lupulinbrewing.us8.list-manage.com/track/click?u%3Dbee622aafc8ec22419fd0f93b%26id%3Dc7c4d5fb3c%26e%3D61dc632f32&amp\;source=gmail&amp\;ust=1752348160987000&amp\;usg=AOvVaw28NRpHJsa48EH-DPaI3QDN" href="https://lupulinbrewing.us8.list-manage.com/track/click?u=bee622aafc8ec22419fd0f93b&amp\;id=c7c4d5fb3c&amp\;e=61dc632f32" style="color: rgb(17\, 85\, 204)\; font-family: Helvetica\, sans-serif\; font-size: 14px\; text-align: center\; background-color: rgb(255\, 255\, 255)\;" target="_blank"><strong><span style="color: rgb(0\, 124\, 137)\;">Axel &amp\; Betty</span></strong></a></span></span></div>\n
LOCATION:Lupulin Brewing 570 Humboldt Drive Suite 107 Big Lake
UID:e.32.32641
SEQUENCE:3
DTSTAMP:20260421T123845Z
URL:http://mobile.elkriverchamber.org/events/details/live-at-lupulin-32641
END:VEVENT

END:VCALENDAR
