BEGIN:VCALENDAR
VERSION:2.0
PRODID:-//ChamberMaster//Event Calendar 2.0//EN
METHOD:PUBLISH
X-PUBLISHED-TTL:P3D
REFRESH-INTERVAL:P3D
CALSCALE:GREGORIAN
BEGIN:VEVENT
DTSTART:20260204T143000Z
DTEND:20260205T034500Z
X-MICROSOFT-CDO-ALLDAYEVENT:FALSE
SUMMARY:LEGISLATIVE PREVIEW
DESCRIPTION:Join us for a legislative preview of the 2026 Minnesota Legislative session. Our local legislators have been invited to attend and share with us their unique insights into the 2026 session.  We will also share the Elk River Area Chamber's legislative priorities for 2026.
X-ALT-DESC;FMTTYPE=text/html:Join us for a legislative preview of the 2026 Minnesota Legislative session. Our local legislators have been invited to attend and share with us their unique insights into the 2026 session.&nbsp\; We will also share the Elk River Area Chamber&#39\;s legislative priorities for 2026.&nbsp\;<br />\n<br />\n&nbsp\;
LOCATION:The Bank of Elk River 630 Main St.\, Elk River
UID:e.32.33057
SEQUENCE:3
DTSTAMP:20260422T024425Z
URL:http://mobile.elkriverchamber.org/events/details/legislative-preview-33057
END:VEVENT

END:VCALENDAR
