BEGIN:VCALENDAR
VERSION:2.0
PRODID:-//ChamberMaster//Event Calendar 2.0//EN
METHOD:PUBLISH
X-PUBLISHED-TTL:P3D
REFRESH-INTERVAL:P3D
CALSCALE:GREGORIAN
BEGIN:VEVENT
DTSTART:20250726T160000Z
DTEND:20250726T220000Z
X-MICROSOFT-CDO-ALLDAYEVENT:FALSE
SUMMARY:LBC Car Show
DESCRIPTION:Join us Saturday\, July 26th\, for the first-ever LBC Classic Car Show!\n\n									\n\n									Got a classic ride that turns heads? Hit the button below to apply for a spot\, space is limited\, and we'll reach out if your vehicle is selected to shine.\n\n									\n\n									We will be handing out awards for People's Choice\, Best Truck\, Best Muscle Car\, and Best Vintage Car. Whether you're a die-hard gearhead or just here for the chrome\, curves\, you'll find plenty to drool over.\n\n									\n\n									We've got your afternoon covered with cold beer on tap and food from POUR! featuring Dick's Bar & Grill favorites. Mac's Minis will be frying up some hot and fresh mini donuts to round things out. This car show starts at 11 AM with awards being presented at 2 PM.\n\n									\n\n									Come out\, grab a pint\, and soak in a summer day full of horsepower and hops.\n\n									 \n								\n							\n						\n						\n					\n				\n			\n			\n		\n	\n\n \n\n\n	\n		\n			\n			\n				\n					\n						Enter Your Car Here
X-ALT-DESC;FMTTYPE=text/html:<table border="0" cellpadding="0" cellspacing="0" style="color:rgb(34\, 34\, 34)\;font-family:Arial\, Helvetica\, sans-serif\;font-size:small\;width:600px\;border-collapse:collapse\;min-width:100%\;" width="100%">\n	<tbody>\n		<tr>\n			<td style="padding:6.75pt 0in 0in\;vertical-align:top\;">\n			<table align="left" border="0" cellpadding="0" cellspacing="0" style="width:600px\;border-collapse:collapse\;" width="100%">\n				<tbody>\n					<tr>\n						<td style="width:600px\;padding:0in\;vertical-align:top\;">\n						<table align="left" border="0" cellpadding="0" cellspacing="0" style="width:600px\;border-collapse:collapse\;" width="100%">\n							<tbody>\n								<tr>\n									<td style="padding:0in 13.5pt 6.75pt\;max-width:100%\;min-width:100%\;float:left\;vertical-align:top\;"><span style="font-family:helvetica\,sans-serif\;"><span style="font-size:10.5pt\;">Join us&nbsp\;<strong>Saturday\, July 26th</strong>\, for the first-ever LBC Classic Car Show!<br />\n									<br />\n									<strong>Got a classic ride that turns heads</strong>? Hit the button&nbsp\;below to apply for a spot\, space is limited\, and we&rsquo\;ll reach out if your vehicle is selected to shine.<br />\n									<br />\n									We will be handing out awards for&nbsp\;<strong>People&rsquo\;s Choice</strong>\,&nbsp\;<strong>Best Truck</strong>\,&nbsp\;<strong>Best Muscle Car</strong>\, and&nbsp\;<strong>Best Vintage Car</strong>. Whether you&rsquo\;re a die-hard gearhead or just here for the chrome\, curves\, you&rsquo\;ll find plenty to drool over.<br />\n									<br />\n									We&rsquo\;ve got your afternoon covered with cold beer on tap and food from POUR! featuring Dick&rsquo\;s Bar &amp\; Grill favorites. Mac&rsquo\;s Minis will be frying up some hot and fresh mini donuts to round things out. This car show starts at 11 AM with awards being presented at 2 PM.<br />\n									<br />\n									Come out\, grab a pint\, and soak in a summer day full of horsepower and hops.</span></span><br />\n									&nbsp\;</td>\n								</tr>\n							</tbody>\n						</table>\n						</td>\n					</tr>\n				</tbody>\n			</table>\n			</td>\n		</tr>\n	</tbody>\n</table>\n&nbsp\;\n\n<table border="0" cellpadding="0" cellspacing="0" style="color:rgb(34\, 34\, 34)\;font-family:Arial\, Helvetica\, sans-serif\;font-size:small\;width:600px\;border-collapse:collapse\;min-width:100%\;" width="100%">\n	<tbody>\n		<tr>\n			<td style="padding:0in 13.5pt 13.5pt\;vertical-align:top\;">\n			<table align="center" border="1" cellpadding="0" cellspacing="0" style="background:rgb(0\, 255\, 123)\;border-collapse:collapse\;border:none\;">\n				<tbody>\n					<tr>\n						<td style="border:1.5pt solid windowtext\;padding:13.5pt\;border-radius:17px\;"><span style="font-family:arial\,sans-serif\;"><a data-saferedirecturl="https://www.google.com/url?q=https://lupulinbrewing.us8.list-manage.com/track/click?u%3Dbee622aafc8ec22419fd0f93b%26id%3Df4cf6be856%26e%3D61dc632f32&amp\;source=gmail&amp\;ust=1752348160986000&amp\;usg=AOvVaw0dzW0O-uqzhUSXQg0AGvHL" href="https://lupulinbrewing.us8.list-manage.com/track/click?u=bee622aafc8ec22419fd0f93b&amp\;id=f4cf6be856&amp\;e=61dc632f32" style="color:rgb(17\, 85\, 204)\;" target="_blank" title="Enter Your Car Here"><strong><span style="text-decoration-line:none\;"><span style="color:#080808\;">Enter Your Car Here</span></span></strong></a></span></td>\n					</tr>\n				</tbody>\n			</table>\n\n			<div style="clear:both\;">&nbsp\;</div>\n			</td>\n		</tr>\n	</tbody>\n</table>\n
LOCATION:Lupulin Brewing 570 Humboldt Drive Suite 107 Big Lake
UID:e.32.32631
SEQUENCE:3
DTSTAMP:20260421T124211Z
URL:http://mobile.elkriverchamber.org/events/details/lbc-car-show-32631
END:VEVENT

END:VCALENDAR
